BEGIN:VCALENDAR
VERSION:2.0
METHOD:PUBLISH
PRODID:-//Missouri State University/Calendar of Events//EN
CALSCALE:GREGORIAN
X-WR-TIMEZONE:America/Chicago
BEGIN:VTIMEZONE
TZID:America/Chicago
BEGIN:DAYLIGHT
TZOFFSETFROM:-0600
TZOFFSETTO:-0500
DTSTART:20070311T020000
RRULE:FREQ=YEARLY;BYMONTH=3;BYDAY=2SU
TZNAME:CDT
END:DAYLIGHT
BEGIN:STANDARD
TZOFFSETFROM:-0500
TZOFFSETTO:-0600
DTSTART:20071104T020000
RRULE:FREQ=YEARLY;BYMONTH=11;BYDAY=1SU
TZNAME:CST
END:STANDARD
END:VTIMEZONE
BEGIN:VEVENT
UID:90855643-ed78-4542-ae30-beea77b14b71.223529@calendar.missouristate.edu
CREATED:20221209T214913Z
LAST-MODIFIED:20221209T214913Z
LOCATION:
SUMMARY:MarCom Training Week 2023: Digital marketing: reach your audience 
 anywhere\, online
DESCRIPTION:Presenter: Sofia Perez\n\n\nDigital marketing is a phrase you 
 hear often\, but what exactly does it mean and how can you use it for you
 r department or program? \n\n\nIn this session you’ll learn:  \n\n\n\nThe
  basics of SEM\, social media ads\, geofencing and display. \nHow to meas
 ure the success of a campaign. \nHow Strategic Communication can help you
  reach your goals through digital marketing. \n\nRegistration is required
  at My Learning Connection in my.missouristate.edu.\n\n\n\nGo to your pro
 file tab.\nFind the Professional Development box.\nSelect My Learning Con
 nection.\nSearch for this session.\nSign up.\n\nNote: This session will b
 e offered via Zoom. A link will be emailed to participants before the tra
 ining.
X-ALT-DESC;FMTTYPE=text/html:&lt;html&gt;&lt;head&gt;&lt;title&gt;&lt;/title&gt;&lt;/head&gt;&lt;body&gt;&lt;p&gt;Pr
 esenter: Sofia Perez&lt;/p&gt;\n&lt;p&gt;Digital marketing is a phrase you hear often
 \, but what exactly does it mean and how can you use it for your departme
 nt or program?&amp;nbsp\;&lt;/p&gt;\n&lt;p&gt;In this session you’ll learn:&amp;nbsp\;&amp;nbsp\;
 &lt;/p&gt;\n&lt;ul&gt;\n&lt;li&gt;The basics of SEM\, social media ads\, geofencing and dis
 play.&amp;nbsp\;&lt;/li&gt;\n&lt;li&gt;How to measure the success of a campaign.&amp;nbsp\;&lt;/
 li&gt;\n&lt;li&gt;How Strategic Communication can help you reach your goals throug
 h digital marketing.&amp;nbsp\;&lt;/li&gt;\n&lt;/ul&gt;\n&lt;p&gt;Registration is required at M
 y Learning Connection in my.missouristate.edu.&lt;/p&gt;\n&lt;ul&gt;\n&lt;li&gt;Go to your 
 profile tab.&lt;/li&gt;\n&lt;li&gt;Find the Professional Development box.&lt;/li&gt;\n&lt;li&gt;S
 elect My Learning Connection.&lt;/li&gt;\n&lt;li&gt;Search for this session.&lt;/li&gt;\n&lt;l
 i&gt;Sign up.&lt;/li&gt;\n&lt;/ul&gt;\n&lt;p&gt;&lt;strong&gt;Note: This session will be offered via
  Zoom. A link will be emailed to participants before the training&lt;/strong
 &gt;.&lt;/p&gt;&lt;/body&gt;&lt;/html&gt;
DTSTART;TZID=America/Chicago:20230301T103000
DTEND;TZID=America/Chicago:20230301T113000
SEQUENCE:0
URL:116919.jpg
CATEGORIES:Current Students,Faculty,Staff
END:VEVENT
END:VCALENDAR