BEGIN:VCALENDAR
VERSION:2.0
METHOD:PUBLISH
PRODID:-//Missouri State University/Calendar of Events//EN
CALSCALE:GREGORIAN
X-WR-TIMEZONE:America/Chicago
BEGIN:VTIMEZONE
TZID:America/Chicago
BEGIN:DAYLIGHT
TZOFFSETFROM:-0600
TZOFFSETTO:-0500
DTSTART:20070311T020000
RRULE:FREQ=YEARLY;BYMONTH=3;BYDAY=2SU
TZNAME:CDT
END:DAYLIGHT
BEGIN:STANDARD
TZOFFSETFROM:-0500
TZOFFSETTO:-0600
DTSTART:20071104T020000
RRULE:FREQ=YEARLY;BYMONTH=11;BYDAY=1SU
TZNAME:CST
END:STANDARD
END:VTIMEZONE
BEGIN:VEVENT
UID:f41128eb-af4f-4df0-8d4f-f92847be4067.223530@calendar.missouristate.edu
CREATED:20230202T211005Z
LAST-MODIFIED:20230202T211005Z
LOCATION:Glass Hall\, David D. 486
SUMMARY:MarCom Training Week 2023: Lights\, camera short form video
DESCRIPTION:Presenter: Adair Seifert-Anspaugh\n\n\nShort form video is all
  the rage\, but where do I start?\n\n\nDuring the session you’ll learn:\n
 \n\n\nWhat is short form video?\nIG Reels\, TikTok and YouTube shorts. Wh
 ich should I be doing?\nFilming social media content best practices.\nHow
  to find trends and knowing when to jump on board.\nHow to create a short
  form video team for your brand.\nIs photo content dead? How to know if s
 hort form video content is right for your brand.\nEnd with a Q&amp;A session.
 \n\nRegistration is required at My Learning Connection in my.missouristat
 e.edu.\n\n\n\nGo to your profile tab.\nFind the Professional Development 
 box.\nSelect My Learning Connection.\nSearch for this session.\nSign up.
X-ALT-DESC;FMTTYPE=text/html:&lt;html&gt;&lt;head&gt;&lt;title&gt;&lt;/title&gt;&lt;/head&gt;&lt;body&gt;&lt;p&gt;Pr
 esenter: Adair Seifert-Anspaugh&lt;/p&gt;\n&lt;p&gt;Short form video is all the rage\
 , but where do I start?&lt;/p&gt;\n&lt;p&gt;During the session you’ll learn:&lt;/p&gt;\n&lt;ul
 &gt;\n&lt;li&gt;What is short form video?&lt;/li&gt;\n&lt;li&gt;IG Reels\, TikTok and YouTube 
 shorts. Which should I be doing?&lt;/li&gt;\n&lt;li&gt;Filming social media content b
 est practices.&lt;/li&gt;\n&lt;li&gt;How to find trends and knowing when to jump on b
 oard.&lt;/li&gt;\n&lt;li&gt;How to create a short form video team for your brand.&lt;/li
 &gt;\n&lt;li&gt;Is photo content dead? How to know if short form video content is 
 right for your brand.&lt;/li&gt;\n&lt;li&gt;End with a Q&amp;amp\;A session.&lt;/li&gt;\n&lt;/ul&gt;\
 n&lt;p&gt;Registration is required at My Learning Connection in my.missouristat
 e.edu.&lt;/p&gt;\n&lt;ul&gt;\n&lt;li&gt;Go to your profile tab.&lt;/li&gt;\n&lt;li&gt;Find the Professi
 onal Development box.&lt;/li&gt;\n&lt;li&gt;Select My Learning Connection.&lt;/li&gt;\n&lt;li&gt;
 Search for this session.&lt;/li&gt;\n&lt;li&gt;Sign up.&lt;/li&gt;\n&lt;/ul&gt;&lt;/body&gt;&lt;/html&gt;
DTSTART;TZID=America/Chicago:20230302T090000
DTEND;TZID=America/Chicago:20230302T100000
SEQUENCE:2
URL:116920.jpg
CATEGORIES:Current Students,Faculty,Staff
END:VEVENT
END:VCALENDAR