BEGIN:VCALENDAR
VERSION:2.0
METHOD:PUBLISH
PRODID:-//Missouri State University/Calendar of Events//EN
CALSCALE:GREGORIAN
X-WR-TIMEZONE:America/Chicago
BEGIN:VTIMEZONE
TZID:America/Chicago
BEGIN:DAYLIGHT
TZOFFSETFROM:-0600
TZOFFSETTO:-0500
DTSTART:20070311T020000
RRULE:FREQ=YEARLY;BYMONTH=3;BYDAY=2SU
TZNAME:CDT
END:DAYLIGHT
BEGIN:STANDARD
TZOFFSETFROM:-0500
TZOFFSETTO:-0600
DTSTART:20071104T020000
RRULE:FREQ=YEARLY;BYMONTH=11;BYDAY=1SU
TZNAME:CST
END:STANDARD
END:VTIMEZONE
BEGIN:VEVENT
UID:0262ea7c-09c6-4fda-b1e6-8eee97ac44da.223531@calendar.missouristate.edu
CREATED:20221219T193704Z
LAST-MODIFIED:20221219T193704Z
LOCATION:Glass Hall\, David D. 486
SUMMARY:MarCom Training Week 2023: Mastering media interviews – level 1 
DESCRIPTION:Presenters: Emily Yeap and Natalie Allen\n\n\nPreparation and 
 practice are key to achieving successful media interviews. A strong appea
 rance in a newspaper article or on a TV piece reflects well not only on y
 ou\, but also your department and the university as a whole. In this medi
 a training\, you'll:\n\n\n\nLearn tools and strategies to become more med
 ia savvy and handle media interviews like a pro.\nGain valuable tips and 
 advice from dietetics faculty expert and registered dietitian Natalie All
 en. Allen has done numerous interviews across all mediums for local\, reg
 ional and national media outlets.\n\nRegistration is required at My Learn
 ing Connection in my.missouristate.edu.\n\n\n\nGo to your profile tab.\nF
 ind the Professional Development box.\nSelect My Learning Connection.\nSe
 arch for this session.\nSign up.
X-ALT-DESC;FMTTYPE=text/html:&lt;html&gt;&lt;head&gt;&lt;title&gt;&lt;/title&gt;&lt;/head&gt;&lt;body&gt;&lt;p&gt;Pr
 esenters: Emily Yeap and Natalie Allen&lt;/p&gt;\n&lt;p&gt;Preparation and practice a
 re key to achieving successful media interviews. A strong appearance in a
  newspaper article or on a TV piece reflects well not only on you\, but a
 lso your department and the university as a whole. &lt;br&gt;&lt;br&gt;In this media 
 training\, you'll:&lt;/p&gt;\n&lt;ul&gt;\n&lt;li&gt;Learn tools and strategies to become mo
 re media savvy and handle media interviews like a pro.&lt;/li&gt;\n&lt;li&gt;Gain val
 uable tips and advice from dietetics faculty expert and registered dietit
 ian Natalie Allen. Allen has done numerous interviews across all mediums 
 for local\, regional and national media outlets.&lt;/li&gt;\n&lt;/ul&gt;\n&lt;p&gt;Registra
 tion is required at My Learning Connection in my.missouristate.edu.&lt;/p&gt;\n
 &lt;ul&gt;\n&lt;li&gt;Go to your profile tab.&lt;/li&gt;\n&lt;li&gt;Find the Professional Develop
 ment box.&lt;/li&gt;\n&lt;li&gt;Select My Learning Connection.&lt;/li&gt;\n&lt;li&gt;Search for t
 his session.&lt;/li&gt;\n&lt;li&gt;Sign up.&lt;/li&gt;\n&lt;/ul&gt;&lt;/body&gt;&lt;/html&gt;
DTSTART;TZID=America/Chicago:20230302T130000
DTEND;TZID=America/Chicago:20230302T150000
SEQUENCE:1
URL:116921.jpg
CATEGORIES:Current Students,Faculty,Staff
END:VEVENT
END:VCALENDAR