BEGIN:VCALENDAR
VERSION:2.0
METHOD:PUBLISH
PRODID:-//Missouri State University/Calendar of Events//EN
CALSCALE:GREGORIAN
X-WR-TIMEZONE:America/Chicago
BEGIN:VTIMEZONE
TZID:America/Chicago
BEGIN:DAYLIGHT
TZOFFSETFROM:-0600
TZOFFSETTO:-0500
DTSTART:20070311T020000
RRULE:FREQ=YEARLY;BYMONTH=3;BYDAY=2SU
TZNAME:CDT
END:DAYLIGHT
BEGIN:STANDARD
TZOFFSETFROM:-0500
TZOFFSETTO:-0600
DTSTART:20071104T020000
RRULE:FREQ=YEARLY;BYMONTH=11;BYDAY=1SU
TZNAME:CST
END:STANDARD
END:VTIMEZONE
BEGIN:VEVENT
UID:11fa9e6f-56c7-40b1-b8e3-a583b8d8726e.223532@calendar.missouristate.edu
CREATED:20221215T173149Z
LAST-MODIFIED:20221215T173149Z
LOCATION:Plaster Student Union\, Robert W. Room 315
SUMMARY:K-12 Education Career Planning Fair
DESCRIPTION:The College of Education and Career Center will host a K-12 Ed
 ucation Career Planning Fair.\n\n\nFeb. 3\, 2023 (Plaster Student Union)\
 n\n\n\n9 a.m.: Q&amp;A with school districts (panel) - Room 315\n9:30 a.m.-12
 :30 p.m.: Career Fair - Grand Ballroom\n10 a.m.-12 p.m.: Photographer for
  professional headshots for career portfolio\, LinkedIn\, Handshake - Roo
 m 317\n\nStudents:\n\n\nThis Career Planning Fair is for all students who
  want to work in the K-12 education setting and is open to freshman throu
 gh graduate students. This is for those who are preparing for student tea
 ching\, practicums\, full-time teaching and other full-time K-12 job appl
 ications and more.These school districts may have opportunities that serv
 e internships\, student teaching and part-time or full-time employment\, 
 as well as great developmental opportunities.Questions? \n\n\nFeel free t
 o contact us at 417-836-5636 or CareerCenter@Missouristate.edu.
X-ALT-DESC;FMTTYPE=text/html:&lt;html&gt;&lt;head&gt;&lt;title&gt;&lt;/title&gt;&lt;/head&gt;&lt;body&gt;&lt;p&gt;Th
 e College of Education and Career Center will host a&amp;nbsp\;&lt;strong&gt;K-12 E
 ducation Career Planning Fair.&lt;br&gt;&lt;/strong&gt;&lt;/p&gt;\n&lt;p&gt;&lt;strong&gt;Feb. 3\, 2023
  (Plaster Student Union)&lt;/strong&gt;&lt;/p&gt;\n&lt;ul&gt;\n&lt;li&gt;&lt;strong&gt;9 a.m.: Q&amp;amp\;A
  with school districts (panel) - &lt;/strong&gt;&lt;em&gt;Room 315&lt;/em&gt;&lt;/li&gt;\n&lt;li&gt;&lt;st
 rong&gt;9:30 a.m.-12:30 p.m.: Career Fair - &lt;/strong&gt;&lt;em&gt;Grand Ballroom&lt;/em&gt;
 &lt;/li&gt;\n&lt;li&gt;&lt;strong&gt;10 a.m.-12 p.m.: Photographer for professional headsho
 ts for career portfolio\, LinkedIn\, Handshake - &lt;/strong&gt;&lt;em&gt;Room 317&lt;/e
 m&gt;&lt;/li&gt;\n&lt;/ul&gt;\n&lt;p&gt;&lt;strong&gt;Students:&lt;/strong&gt;&lt;/p&gt;\n&lt;p&gt;This Career Plannin
 g Fair is for all students who want to work in the K-12 education setting
  and is open to freshman through graduate students. This is for those who
  are preparing for student teaching\, practicums\, full-time teaching and
  other full-time K-12 job applications and more.&lt;br&gt;&lt;br&gt;These school dist
 ricts may have opportunities that serve internships\, student teaching an
 d part-time or full-time employment\, as well as great developmental oppo
 rtunities.&lt;br&gt;&lt;br&gt;&lt;strong&gt;Questions?&amp;nbsp\;&lt;/strong&gt;&lt;/p&gt;\n&lt;p&gt;Feel free to
  contact us at 417-836-5636 or CareerCenter@Missouristate.edu.&lt;/p&gt;&lt;/body&gt;
 &lt;/html&gt;
DTSTART;TZID=America/Chicago:20230203T090000
DTEND;TZID=America/Chicago:20230203T093000
SEQUENCE:0
URL:https://careercenter.missouristate.edu/Career-fairs.htm
CATEGORIES:Alumni,Current Students,Faculty,Staff
END:VEVENT
END:VCALENDAR