BEGIN:VCALENDAR
VERSION:2.0
METHOD:PUBLISH
PRODID:-//Missouri State University/Calendar of Events//EN
CALSCALE:GREGORIAN
X-WR-TIMEZONE:America/Chicago
BEGIN:VTIMEZONE
TZID:America/Chicago
BEGIN:DAYLIGHT
TZOFFSETFROM:-0600
TZOFFSETTO:-0500
DTSTART:20070311T020000
RRULE:FREQ=YEARLY;BYMONTH=3;BYDAY=2SU
TZNAME:CDT
END:DAYLIGHT
BEGIN:STANDARD
TZOFFSETFROM:-0500
TZOFFSETTO:-0600
DTSTART:20071104T020000
RRULE:FREQ=YEARLY;BYMONTH=11;BYDAY=1SU
TZNAME:CST
END:STANDARD
END:VTIMEZONE
BEGIN:VEVENT
UID:5cdf96cb-c613-4fac-9b44-d7f55281ec06.223534@calendar.missouristate.edu
CREATED:20221215T213208Z
LAST-MODIFIED:20221215T213208Z
LOCATION:
SUMMARY:Certified Administrative Professional (CAP) Orientation and Inform
 ation Session
DESCRIPTION:Are you interested in learning more about the CAP certificatio
 n?\n\n\nThe CAP Orientation and Information session will discuss the part
 iculars of the upcoming review course and explain the CAP certification e
 xam timeline and process. \n\n\nThe Orientation and Infomation session is
  being offered via Zoom.  The Review Course will be offered in person.\n\
 n\nRegister in My Learning Connection.  Visit Certified Administrative Pr
 ofessional Review Course - Human Resources - Missouri State for more info
 rmation and registration details.
X-ALT-DESC;FMTTYPE=text/html:&lt;html&gt;&lt;head&gt;&lt;title&gt;&lt;/title&gt;&lt;/head&gt;&lt;body&gt;&lt;p&gt;Ar
 e you interested in learning more about the CAP certification?&lt;/p&gt;\n&lt;p&gt;Th
 e CAP Orientation and Information session will discuss the particulars of
  the upcoming review course and explain the CAP certification exam timeli
 ne and process.&amp;nbsp\;&lt;/p&gt;\n&lt;p&gt;The Orientation and Infomation session is 
 being offered via Zoom.&amp;nbsp\; The Review Course will be offered in perso
 n.&lt;/p&gt;\n&lt;p&gt;Register in My Learning Connection.&amp;nbsp\; Visit&amp;nbsp\;&lt;a href
 ="https://www.missouristate.edu/Human/certified-administrative-profession
 al-review-course.htm"&gt;Certified Administrative Professional Review Course
  - Human Resources - Missouri State&lt;/a&gt;&amp;nbsp\;for more information and re
 gistration details.&lt;/p&gt;&lt;/body&gt;&lt;/html&gt;
DTSTART;TZID=America/Chicago:20230119T160000
DTEND;TZID=America/Chicago:20230119T170000
SEQUENCE:0
URL:https://www.missouristate.edu/Human/certified-administrative-professio
 nal-review-course.htm
CATEGORIES:Staff
END:VEVENT
END:VCALENDAR