BEGIN:VCALENDAR
VERSION:2.0
METHOD:PUBLISH
PRODID:-//Missouri State University/Calendar of Events//EN
CALSCALE:GREGORIAN
X-WR-TIMEZONE:America/Chicago
BEGIN:VTIMEZONE
TZID:America/Chicago
BEGIN:DAYLIGHT
TZOFFSETFROM:-0600
TZOFFSETTO:-0500
DTSTART:20070311T020000
RRULE:FREQ=YEARLY;BYMONTH=3;BYDAY=2SU
TZNAME:CDT
END:DAYLIGHT
BEGIN:STANDARD
TZOFFSETFROM:-0500
TZOFFSETTO:-0600
DTSTART:20071104T020000
RRULE:FREQ=YEARLY;BYMONTH=11;BYDAY=1SU
TZNAME:CST
END:STANDARD
END:VTIMEZONE
BEGIN:VEVENT
UID:9c05d502-cc21-467b-b990-03145102f03a.223560@calendar.missouristate.edu
CREATED:20221220T061521Z
LAST-MODIFIED:20221220T061521Z
LOCATION:Springfield\, Robert W. Plaster Stadium
SUMMARY:Missouri State University Football vs North Dakota State - Mental 
 Health Awareness Week
DESCRIPTION:Missouri State University Football plays North Dakota State - 
 Mental Health Awareness WeekTV: ESPN3
X-ALT-DESC;FMTTYPE=text/html:&lt;html&gt;&lt;head&gt;&lt;title&gt;&lt;/title&gt;&lt;/head&gt;&lt;body&gt;Misso
 uri State University Football plays North Dakota State - Mental Health Aw
 areness Week&lt;br&gt;&lt;br&gt;TV: ESPN3&lt;/body&gt;&lt;/html&gt;
DTSTART;TZID=America/Chicago:20231007T140000
DTEND;TZID=America/Chicago:20231007T170000
SEQUENCE:1
URL:http://missouristatebears.com/index.aspx?path=football
CATEGORIES:Current Students,Future Students,Parents and Family,Alumni,
 Faculty,Staff,Community,Visitors,Athletics
END:VEVENT
END:VCALENDAR