BEGIN:VCALENDAR
VERSION:2.0
METHOD:PUBLISH
PRODID:-//Missouri State University/Calendar of Events//EN
CALSCALE:GREGORIAN
X-WR-TIMEZONE:America/Chicago
BEGIN:VTIMEZONE
TZID:America/Chicago
BEGIN:DAYLIGHT
TZOFFSETFROM:-0600
TZOFFSETTO:-0500
DTSTART:20070311T020000
RRULE:FREQ=YEARLY;BYMONTH=3;BYDAY=2SU
TZNAME:CDT
END:DAYLIGHT
BEGIN:STANDARD
TZOFFSETFROM:-0500
TZOFFSETTO:-0600
DTSTART:20071104T020000
RRULE:FREQ=YEARLY;BYMONTH=11;BYDAY=1SU
TZNAME:CST
END:STANDARD
END:VTIMEZONE
BEGIN:VEVENT
UID:a94b6c6b-0d77-46eb-99ce-a0ddc6cae9ca.223576@calendar.missouristate.edu
CREATED:20230118T232806Z
LAST-MODIFIED:20230118T232806Z
LOCATION:Plaster Free Enterprise Center\, Robert W. 1000
SUMMARY:Certified Administrative Professional (CAP) Exam Review Course
DESCRIPTION:The Certified Administrative Professional® (CAP) designation f
 rom the International Association of Administrative Professionals (IAAP) 
 is recognized as a standard of proficiency in the administrative professi
 onals field. Review Course costs and exam fees are paid for by the univer
 sity one time per eligible employee.\n\n\nThe CAP Exam Review Course cons
 ists of seven\, three-hour sessions between Feb. 16 and April 6\, and pro
 vides an overview of the topics on the CAP exam. This course is offered b
 y Organizational and Talent Development and facilitated by a qualified CA
 P certified instructor. It includes a study guide for exam preparation.\n
 \n\nNOTE: You are encouraged to attend the Certified Administrative Profe
 ssional (CAP) - Orientation and Information Zoom session (Jan. 19) to ens
 ure you understand the CAP process and that you meet all CAP requirements
  (including manager approval).\n\n\nRegister in My Learning Connection. V
 isit Certified Administrative Professional Review Course - Human Resource
 s - Missouri State for more information and registration details.
X-ALT-DESC;FMTTYPE=text/html:&lt;html&gt;&lt;head&gt;&lt;title&gt;&lt;/title&gt;&lt;/head&gt;&lt;body&gt;&lt;p&gt;&lt;s
 pan&gt;The Certified Administrative Professional® (CAP) designation from the
  International Association of Administrative Professionals (IAAP) is reco
 gnized as a standard of proficiency in the administrative professionals f
 ield.&amp;nbsp\;&lt;/span&gt;Review Course costs and exam fees are paid for by the 
 university one time per eligible employee.&lt;/p&gt;\n&lt;p&gt;&lt;span&gt;The CAP Exam Rev
 iew Course consists of seven\, three-hour sessions between Feb. 16 and Ap
 ril 6\, and provides an overview of the topics on the CAP exam. &lt;/span&gt;&lt;s
 pan&gt;This course is &lt;/span&gt;offered by Organizational and Talent Developmen
 t and &lt;span&gt;facilitated by a qualified CAP certified instructor. It inclu
 des a study guide for exam preparation.&lt;/span&gt;&lt;/p&gt;\n&lt;p&gt;&lt;strong&gt;NOTE: &lt;/st
 rong&gt;You are encouraged to attend the &lt;strong&gt;Certified Administrative Pr
 ofessional (CAP) - Orientation and Information&lt;/strong&gt; Zoom session (Jan
 . 19) to ensure you understand the CAP process and that you meet all CAP 
 requirements (including manager approval).&lt;/p&gt;\n&lt;p&gt;Register in&amp;nbsp\;&lt;str
 ong&gt;My Learning Connection&lt;/strong&gt;. Visit&amp;nbsp\;&lt;a href="https://www.mis
 souristate.edu/Human/certified-administrative-professional-review-course.
 htm" title="CAP Review Course"&gt;Certified Administrative Professional Revi
 ew Course - Human Resources - Missouri State&lt;/a&gt;&amp;nbsp\;for more informati
 on and registration details.&lt;/p&gt;\n&lt;p&gt;&lt;/p&gt;\n&lt;p&gt;&lt;/p&gt;&lt;/body&gt;&lt;/html&gt;
DTSTART;TZID=America/Chicago:20230216T140000
DTEND;TZID=America/Chicago:20230216T170000
SEQUENCE:0
URL:https://blogs.missouristate.edu/human/2022/12/16/interested-in-the-cer
 tified-administrative-professional-cap-certification-2/
CATEGORIES:Staff
END:VEVENT
END:VCALENDAR