BEGIN:VCALENDAR
VERSION:2.0
METHOD:PUBLISH
PRODID:-//Missouri State University/Calendar of Events//EN
CALSCALE:GREGORIAN
X-WR-TIMEZONE:America/Chicago
BEGIN:VTIMEZONE
TZID:America/Chicago
BEGIN:DAYLIGHT
TZOFFSETFROM:-0600
TZOFFSETTO:-0500
DTSTART:20070311T020000
RRULE:FREQ=YEARLY;BYMONTH=3;BYDAY=2SU
TZNAME:CDT
END:DAYLIGHT
BEGIN:STANDARD
TZOFFSETFROM:-0500
TZOFFSETTO:-0600
DTSTART:20071104T020000
RRULE:FREQ=YEARLY;BYMONTH=11;BYDAY=1SU
TZNAME:CST
END:STANDARD
END:VTIMEZONE
BEGIN:VEVENT
UID:59b6b43e-a47c-4f93-9be8-1c84173027cf.223625@calendar.missouristate.edu
CREATED:20221221T061520Z
LAST-MODIFIED:20221221T061520Z
LOCATION:Killian Softball Complex
SUMMARY:Missouri State University Softball vs UIC - Pick a Prize Raffle&lt;br
  /&gt;Legacy Day: Barb Gaines &amp; Sue Frederick Recognition
DESCRIPTION:Missouri State University Softball hosts UIC - Pick a Prize Ra
 ffleLegacy Day: Barb Gaines &amp; Sue Frederick Recognition
X-ALT-DESC;FMTTYPE=text/html:&lt;html&gt;&lt;head&gt;&lt;title&gt;&lt;/title&gt;&lt;/head&gt;&lt;body&gt;Misso
 uri State University Softball hosts UIC - Pick a Prize Raffle&lt;br /&gt;Legacy
  Day: Barb Gaines &amp; Sue Frederick Recognition&lt;/body&gt;&lt;/html&gt;
DTSTART;TZID=America/Chicago:20230415T120000
DTEND;TZID=America/Chicago:20230415T140000
SEQUENCE:1
URL:http://missouristatebears.com/index.aspx?path=softball
CATEGORIES:Current Students,Future Students,Parents and Family,Alumni,
 Faculty,Staff,Community,Visitors,Athletics
END:VEVENT
END:VCALENDAR