BEGIN:VCALENDAR
VERSION:2.0
METHOD:PUBLISH
PRODID:-//Missouri State University/Calendar of Events//EN
CALSCALE:GREGORIAN
X-WR-TIMEZONE:America/Chicago
BEGIN:VTIMEZONE
TZID:America/Chicago
BEGIN:DAYLIGHT
TZOFFSETFROM:-0600
TZOFFSETTO:-0500
DTSTART:20070311T020000
RRULE:FREQ=YEARLY;BYMONTH=3;BYDAY=2SU
TZNAME:CDT
END:DAYLIGHT
BEGIN:STANDARD
TZOFFSETFROM:-0500
TZOFFSETTO:-0600
DTSTART:20071104T020000
RRULE:FREQ=YEARLY;BYMONTH=11;BYDAY=1SU
TZNAME:CST
END:STANDARD
END:VTIMEZONE
BEGIN:VEVENT
UID:abef4224-8951-4f1e-88ff-ea0895229f93.223631@calendar.missouristate.edu
CREATED:20221221T061522Z
LAST-MODIFIED:20221221T061522Z
LOCATION:Terre Haute\, Ind.
SUMMARY:Missouri State University Softball at Indiana State
DESCRIPTION:Missouri State University Softball visits Indiana State
X-ALT-DESC;FMTTYPE=text/html:&lt;html&gt;&lt;head&gt;&lt;title&gt;&lt;/title&gt;&lt;/head&gt;&lt;body&gt;Misso
 uri State University Softball visits Indiana State&lt;/body&gt;&lt;/html&gt;
DTSTART;TZID=America/Chicago:20230428T140000
DTEND;TZID=America/Chicago:20230428T160000
SEQUENCE:1
URL:http://missouristatebears.com/index.aspx?path=softball
CATEGORIES:Current Students,Future Students,Parents and Family,Alumni,
 Faculty,Staff,Community,Visitors,Athletics
END:VEVENT
END:VCALENDAR