BEGIN:VCALENDAR
VERSION:2.0
METHOD:PUBLISH
PRODID:-//Missouri State University/Calendar of Events//EN
CALSCALE:GREGORIAN
X-WR-TIMEZONE:America/Chicago
BEGIN:VTIMEZONE
TZID:America/Chicago
BEGIN:DAYLIGHT
TZOFFSETFROM:-0600
TZOFFSETTO:-0500
DTSTART:20070311T020000
RRULE:FREQ=YEARLY;BYMONTH=3;BYDAY=2SU
TZNAME:CDT
END:DAYLIGHT
BEGIN:STANDARD
TZOFFSETFROM:-0500
TZOFFSETTO:-0600
DTSTART:20071104T020000
RRULE:FREQ=YEARLY;BYMONTH=11;BYDAY=1SU
TZNAME:CST
END:STANDARD
END:VTIMEZONE
BEGIN:VEVENT
UID:d50adf4b-8d2a-4019-8cdd-5fb152dab4d0.223637@calendar.missouristate.edu
CREATED:20221221T061523Z
LAST-MODIFIED:20221221T061523Z
LOCATION:Carbondale\, Ill.
SUMMARY:Missouri State University Softball vs First Round
DESCRIPTION:Missouri State University Softball plays First Round
X-ALT-DESC;FMTTYPE=text/html:&lt;html&gt;&lt;head&gt;&lt;title&gt;&lt;/title&gt;&lt;/head&gt;&lt;body&gt;Misso
 uri State University Softball plays First Round&lt;/body&gt;&lt;/html&gt;
DTSTART;TZID=America/Chicago:20230510T000000
DTEND;TZID=America/Chicago:20230510T000000
SEQUENCE:0
URL:http://missouristatebears.com/index.aspx?path=softball
CATEGORIES:Current Students,Future Students,Parents and Family,Alumni,
 Faculty,Staff,Community,Visitors,Athletics
END:VEVENT
END:VCALENDAR