BEGIN:VCALENDAR
VERSION:2.0
METHOD:PUBLISH
PRODID:-//Missouri State University/Calendar of Events//EN
CALSCALE:GREGORIAN
X-WR-TIMEZONE:America/Chicago
BEGIN:VTIMEZONE
TZID:America/Chicago
BEGIN:DAYLIGHT
TZOFFSETFROM:-0600
TZOFFSETTO:-0500
DTSTART:20070311T020000
RRULE:FREQ=YEARLY;BYMONTH=3;BYDAY=2SU
TZNAME:CDT
END:DAYLIGHT
BEGIN:STANDARD
TZOFFSETFROM:-0500
TZOFFSETTO:-0600
DTSTART:20071104T020000
RRULE:FREQ=YEARLY;BYMONTH=11;BYDAY=1SU
TZNAME:CST
END:STANDARD
END:VTIMEZONE
BEGIN:VEVENT
UID:00000000-0000-0000-0000-000000000000.223647@calendar.missouristate.edu
CREATED:20221221T214546Z
LAST-MODIFIED:20221221T214546Z
LOCATION:To Be Determined
SUMMARY:Phoenix Alumni Gathering
DESCRIPTION:You are invited to a grand slam afternoon with fellow Missouri
  State alumni and friends as the Kansas City Royals\ntake on the Texas Ra
 ngers at Surprise Stadium in Phoenix.\n\n\n 
X-ALT-DESC;FMTTYPE=text/html:&lt;html&gt;&lt;head&gt;&lt;title&gt;&lt;/title&gt;&lt;/head&gt;&lt;body&gt;&lt;p&gt;Yo
 u are invited to a grand slam afternoon with fellow Missouri State alumni
  and friends as the Kansas City Royals\ntake on the Texas Rangers at Surp
 rise Stadium in Phoenix.&lt;/p&gt;\n&lt;p&gt;&amp;nbsp\;&lt;/p&gt;&lt;/body&gt;&lt;/html&gt;
DTSTART;TZID=America/Chicago:20230225T130500
DTEND;TZID=America/Chicago:20230225T150500
SEQUENCE:0
URL:https://missouristate.imodules.com?sid=1691&amp;gid=2&amp;pgid=3023&amp;cid=5308&amp;e
 cid=5308&amp;ciid=17862&amp;crid=0
CATEGORIES:Public,Alumni,Parents and Family,Visitors
END:VEVENT
END:VCALENDAR