BEGIN:VCALENDAR
VERSION:2.0
METHOD:PUBLISH
PRODID:-//Missouri State University/Calendar of Events//EN
CALSCALE:GREGORIAN
X-WR-TIMEZONE:America/Chicago
BEGIN:VTIMEZONE
TZID:America/Chicago
BEGIN:DAYLIGHT
TZOFFSETFROM:-0600
TZOFFSETTO:-0500
DTSTART:20070311T020000
RRULE:FREQ=YEARLY;BYMONTH=3;BYDAY=2SU
TZNAME:CDT
END:DAYLIGHT
BEGIN:STANDARD
TZOFFSETFROM:-0500
TZOFFSETTO:-0600
DTSTART:20071104T020000
RRULE:FREQ=YEARLY;BYMONTH=11;BYDAY=1SU
TZNAME:CST
END:STANDARD
END:VTIMEZONE
BEGIN:VEVENT
UID:e855fde7-f787-43ba-a03d-d7c0bf03c97b.223654@calendar.missouristate.edu
CREATED:20230106T174902Z
LAST-MODIFIED:20230106T174902Z
LOCATION:Plaster Student Union\, Robert W. Ballroom
SUMMARY:Multicultural Services Graduation Reception
DESCRIPTION:Please join us for the spring 2023 Multicultural Services Grad
 uation Reception.\nStudents honored at the graduation reception will rece
 ive a kente cloth stole. These stoles represent their commitment to diver
 sity\, education and community at Missouri State University and beyond.
X-ALT-DESC;FMTTYPE=text/html:&lt;html&gt;&lt;head&gt;&lt;title&gt;&lt;/title&gt;&lt;/head&gt;&lt;body&gt;&lt;div&gt;
 Please join us for the spring 2023 Multicultural Services Graduation Rece
 ption.&lt;/div&gt;\n&lt;p&gt;&lt;span&gt;Students honored at the graduation reception will 
 receive a kente cloth stole. These stoles represent&amp;nbsp\;their commitmen
 t to diversity\, education and community at Missouri State University and
  beyond.&lt;/span&gt;&lt;/p&gt;&lt;/body&gt;&lt;/html&gt;
DTSTART;TZID=America/Chicago:20230511T000000
DTEND;TZID=America/Chicago:20230511T000000
SEQUENCE:0
URL:https://multicultural.missouristate.edu/MSGR.htm
CATEGORIES:Alumni,Current Students,Faculty,Staff
END:VEVENT
END:VCALENDAR