BEGIN:VCALENDAR
VERSION:2.0
METHOD:PUBLISH
PRODID:-//Missouri State University/Calendar of Events//EN
CALSCALE:GREGORIAN
X-WR-TIMEZONE:America/Chicago
BEGIN:VTIMEZONE
TZID:America/Chicago
BEGIN:DAYLIGHT
TZOFFSETFROM:-0600
TZOFFSETTO:-0500
DTSTART:20070311T020000
RRULE:FREQ=YEARLY;BYMONTH=3;BYDAY=2SU
TZNAME:CDT
END:DAYLIGHT
BEGIN:STANDARD
TZOFFSETFROM:-0500
TZOFFSETTO:-0600
DTSTART:20071104T020000
RRULE:FREQ=YEARLY;BYMONTH=11;BYDAY=1SU
TZNAME:CST
END:STANDARD
END:VTIMEZONE
BEGIN:VEVENT
UID:2ed94e57-696f-40af-96ca-3a667ca42085.223660@calendar.missouristate.edu
CREATED:20230118T232646Z
LAST-MODIFIED:20230118T232646Z
LOCATION:
SUMMARY:Communication Basics Virtual Workshop
DESCRIPTION:Every problem in the workplace may not stem from poor communic
 ation—but poor communication is the root of enough problems that it’s wor
 th talking about! What\, exactly\, is communication? What is the differen
 ce between verbal and nonverbal communication\, and why is nonverbal comm
 unication so important? What can go wrong when two people attempt to comm
 unicate? What can you do to be a more effective communicator?  These topi
 cs will be the focus of this two-hour session about communication.\n\n\nT
 his workshop is facilitated by Gloria Galanes\, MSU dean emeritus\, and c
 omplements the Effective Listening workshop.\n\n\nRegister in My Learning
  Connection.
X-ALT-DESC;FMTTYPE=text/html:&lt;html&gt;&lt;head&gt;&lt;title&gt;&lt;/title&gt;&lt;/head&gt;&lt;body&gt;&lt;p&gt;Ev
 ery problem in the workplace may not stem from poor communication—but poo
 r communication is the root of enough problems that it’s worth talking ab
 out! What\, exactly\, is communication? What is the difference between ve
 rbal and nonverbal communication\, and why is nonverbal communication so 
 important? What can go wrong when two people attempt to communicate? What
  can you do to be a more effective communicator?&amp;nbsp\; These topics will
  be the focus of this two-hour session about communication.&lt;/p&gt;\n&lt;p&gt;This 
 workshop is facilitated by Gloria Galanes\, MSU dean emeritus\, and compl
 ements the Effective Listening workshop.&lt;/p&gt;\n&lt;p&gt;Register in &lt;a href="htt
 ps://cas.missouristate.edu/cas/login?service=https%3A%2F%2Fmy.missourista
 te.edu%2Fc%2Fportal%2Flogin" title="My Learning Connection"&gt;My Learning C
 onnection&lt;/a&gt;.&lt;/p&gt;\n&lt;p&gt;&lt;/p&gt;&lt;/body&gt;&lt;/html&gt;
DTSTART;TZID=America/Chicago:20230215T140000
DTEND;TZID=America/Chicago:20230215T160000
SEQUENCE:0
URL:https://blogs.missouristate.edu/human/2022/12/16/learn-to-lead-with-a-
 course-from-our-spring-series-3/
CATEGORIES:Faculty,Staff
END:VEVENT
END:VCALENDAR