BEGIN:VCALENDAR
VERSION:2.0
METHOD:PUBLISH
PRODID:-//Missouri State University/Calendar of Events//EN
CALSCALE:GREGORIAN
X-WR-TIMEZONE:America/Chicago
BEGIN:VTIMEZONE
TZID:America/Chicago
BEGIN:DAYLIGHT
TZOFFSETFROM:-0600
TZOFFSETTO:-0500
DTSTART:20070311T020000
RRULE:FREQ=YEARLY;BYMONTH=3;BYDAY=2SU
TZNAME:CDT
END:DAYLIGHT
BEGIN:STANDARD
TZOFFSETFROM:-0500
TZOFFSETTO:-0600
DTSTART:20071104T020000
RRULE:FREQ=YEARLY;BYMONTH=11;BYDAY=1SU
TZNAME:CST
END:STANDARD
END:VTIMEZONE
BEGIN:VEVENT
UID:86ce0e7d-ef61-40ab-ab28-dcdb520e83ed.223663@calendar.missouristate.edu
CREATED:20230118T232608Z
LAST-MODIFIED:20230118T232608Z
LOCATION:Pummill Hall 206
SUMMARY:Writing for Business Workshop
DESCRIPTION:In the workplace\, your communication skills—both written and 
 verbal—can help or hinder your performance. Whether it is writing a repor
 t or delivering a presentation\, your ability to convey ideas and message
 s clearly\, succinctly and with conviction establishes a connection with 
 others and leaves a positive impression. This 90-minute session will help
  you communicate better in conversations\, presentations\, letters\, emai
 ls and reports.\n\n\nFacilitated by: Emily Yeap\n\n\nSponsored by Organiz
 ational and Talent Development\, HR
X-ALT-DESC;FMTTYPE=text/html:&lt;html&gt;&lt;head&gt;&lt;title&gt;&lt;/title&gt;&lt;/head&gt;&lt;body&gt;&lt;p&gt;In
  the workplace\, your communication skills—both written and verbal—can he
 lp or hinder your performance. Whether it is writing a report or deliveri
 ng a presentation\, your ability to convey ideas and messages clearly\, s
 uccinctly and with conviction establishes a connection with others and le
 aves a positive impression. This 90-minute session will help you communic
 ate better in conversations\, presentations\, letters\, emails and report
 s.&lt;/p&gt;\n&lt;p&gt;Facilitated by: Emily Yeap&lt;/p&gt;\n&lt;p&gt;Sponsored by Organizational
  and Talent Development\, HR&lt;/p&gt;&lt;/body&gt;&lt;/html&gt;
DTSTART;TZID=America/Chicago:20230321T100000
DTEND;TZID=America/Chicago:20230321T113000
SEQUENCE:0
URL:https://blogs.missouristate.edu/human/2023/01/06/learn-to-lead-with-a-
 course-from-our-spring-series-2/
CATEGORIES:Faculty,Staff
END:VEVENT
END:VCALENDAR