BEGIN:VCALENDAR
VERSION:2.0
METHOD:PUBLISH
PRODID:-//Missouri State University/Calendar of Events//EN
CALSCALE:GREGORIAN
X-WR-TIMEZONE:America/Chicago
BEGIN:VTIMEZONE
TZID:America/Chicago
BEGIN:DAYLIGHT
TZOFFSETFROM:-0600
TZOFFSETTO:-0500
DTSTART:20070311T020000
RRULE:FREQ=YEARLY;BYMONTH=3;BYDAY=2SU
TZNAME:CDT
END:DAYLIGHT
BEGIN:STANDARD
TZOFFSETFROM:-0500
TZOFFSETTO:-0600
DTSTART:20071104T020000
RRULE:FREQ=YEARLY;BYMONTH=11;BYDAY=1SU
TZNAME:CST
END:STANDARD
END:VTIMEZONE
BEGIN:VEVENT
UID:ecdbb160-747f-4906-b86e-c8867ac15300.223665@calendar.missouristate.edu
CREATED:20230109T231227Z
LAST-MODIFIED:20230109T231227Z
LOCATION:O’Reilly Clinical Health Sciences Center 100
SUMMARY:Spring 2023 MSU PA Open House Information Session
DESCRIPTION:The Physician Assistant Studies Department will host three Ope
 n House information sessions this spring semester. Prospective students w
 ill meet PAS faculty and staff\, participate in Q&amp;A session with current 
 PA students and take a brief tour of the O'Reilly Clinical Health Science
 s Center.\n\n\nRSVP at https://www.missouristate.edu/PAS/rsvp-for-open-ho
 use.htm
X-ALT-DESC;FMTTYPE=text/html:&lt;html&gt;&lt;head&gt;&lt;title&gt;&lt;/title&gt;&lt;/head&gt;&lt;body&gt;&lt;p&gt;&lt;/
 p&gt;\n&lt;p&gt;&lt;span&gt;The Physician Assistant Studies Department will host three O
 pen House information sessions&amp;nbsp\;this spring semester. Prospective st
 udents will meet PAS faculty and staff\, participate in Q&amp;amp\;A session 
 with current PA students and take a brief tour of the O'Reilly Clinical H
 ealth Sciences Center.&lt;/span&gt;&lt;/p&gt;\n&lt;p&gt;&lt;span&gt;RSVP at &lt;a href="https://www.
 missouristate.edu/PAS/rsvp-for-open-house.htm"&gt;https://www.missouristate.
 edu/PAS/rsvp-for-open-house.htm&lt;/a&gt; &lt;/span&gt;&lt;/p&gt;\n&lt;p&gt;&lt;/p&gt;\n&lt;p&gt;&lt;/p&gt;&lt;/body&gt;&lt;
 /html&gt;
DTSTART;TZID=America/Chicago:20230224T130000
DTEND;TZID=America/Chicago:20230224T160000
SEQUENCE:0
URL:https://www.missouristate.edu/PAS/OpenHouse.htm
CATEGORIES:Public,Current Students,Future Students
END:VEVENT
END:VCALENDAR