BEGIN:VCALENDAR
VERSION:2.0
METHOD:PUBLISH
PRODID:-//Missouri State University/Calendar of Events//EN
CALSCALE:GREGORIAN
X-WR-TIMEZONE:America/Chicago
BEGIN:VTIMEZONE
TZID:America/Chicago
BEGIN:DAYLIGHT
TZOFFSETFROM:-0600
TZOFFSETTO:-0500
DTSTART:20070311T020000
RRULE:FREQ=YEARLY;BYMONTH=3;BYDAY=2SU
TZNAME:CDT
END:DAYLIGHT
BEGIN:STANDARD
TZOFFSETFROM:-0500
TZOFFSETTO:-0600
DTSTART:20071104T020000
RRULE:FREQ=YEARLY;BYMONTH=11;BYDAY=1SU
TZNAME:CST
END:STANDARD
END:VTIMEZONE
BEGIN:VEVENT
UID:38dd792a-ac9b-422e-90af-a50fe8245e59.223789@calendar.missouristate.edu
CREATED:20230127T211416Z
LAST-MODIFIED:20230127T211416Z
LOCATION:Plaster Student Union\, Robert W. Theater
SUMMARY:Town Hall Meeting
DESCRIPTION:Join us for a town hall meeting where we will discuss enrollme
 nt management\, the college merger and academic realignment.\n\n\nThis ev
 ent will also be live streamed via Zoom. \n\n\nLive captioning will also 
 be available. \n\n\nDownload the presentation slides.
X-ALT-DESC;FMTTYPE=text/html:&lt;html&gt;&lt;head&gt;&lt;title&gt;&lt;/title&gt;&lt;/head&gt;&lt;body&gt;&lt;p&gt;Jo
 in us for a town hall meeting where we will discuss enrollment management
 \, the college merger and academic realignment.&lt;/p&gt;\n&lt;p&gt;This event will a
 lso be live streamed via &lt;a href="https://us02web.zoom.us/j/87037592184"&gt;
 Zoom&lt;/a&gt;.&amp;nbsp\;&lt;/p&gt;\n&lt;p&gt;&lt;a href="https://west.typewell.com/fmigbgch"&gt;Liv
 e captioning&lt;/a&gt;&amp;nbsp\;will also be available.&amp;nbsp\;&lt;/p&gt;\n&lt;p&gt;&lt;a href="ht
 tps://www.missouristate.edu/President/_Files/TownhallJan.pdf"&gt;Download th
 e presentation slides&lt;/a&gt;.&lt;/p&gt;&lt;/body&gt;&lt;/html&gt;
DTSTART;TZID=America/Chicago:20230127T153000
DTEND;TZID=America/Chicago:20230127T170000
SEQUENCE:0
URL:https://www.missouristate.edu/RcoahPlan/feedback.htm
CATEGORIES:Public,Alumni,Current Students,Faculty,Staff
END:VEVENT
END:VCALENDAR