BEGIN:VCALENDAR
VERSION:2.0
METHOD:PUBLISH
PRODID:-//Missouri State University/Calendar of Events//EN
CALSCALE:GREGORIAN
X-WR-TIMEZONE:America/Chicago
BEGIN:VTIMEZONE
TZID:America/Chicago
BEGIN:DAYLIGHT
TZOFFSETFROM:-0600
TZOFFSETTO:-0500
DTSTART:20070311T020000
RRULE:FREQ=YEARLY;BYMONTH=3;BYDAY=2SU
TZNAME:CDT
END:DAYLIGHT
BEGIN:STANDARD
TZOFFSETFROM:-0500
TZOFFSETTO:-0600
DTSTART:20071104T020000
RRULE:FREQ=YEARLY;BYMONTH=11;BYDAY=1SU
TZNAME:CST
END:STANDARD
END:VTIMEZONE
BEGIN:VEVENT
UID:07715999-5dad-4122-8e4e-d64626168033.224034@calendar.missouristate.edu
CREATED:20230120T190516Z
LAST-MODIFIED:20230120T190516Z
LOCATION:Plaster Student Union\, Robert W. 308
SUMMARY:Celebrating Seollal - Korean Lunar New Year
DESCRIPTION:Education Abroad and the Korean American Students United (KASU
 ) cordially invite students for a Korean dinner and celebration of the Lu
 nar New Year.\n\n\nWe'll enjoy time to learn about Korean culture and edu
 cation abroad options in Korea. Attendees will receive a Korean bag fille
 d with swag. Ten $1\,200 scholarships to a Korean education abroad progra
 m and one $500 flight voucher will be awarded!\n\n\nRSVP to Education Abr
 oad at 417-836-6368 or educationabroad@missouristate.edu.
X-ALT-DESC;FMTTYPE=text/html:&lt;html&gt;&lt;head&gt;&lt;title&gt;&lt;/title&gt;&lt;/head&gt;&lt;body&gt;&lt;p&gt;Ed
 ucation Abroad and the Korean American Students United (KASU) cordially i
 nvite students for a Korean dinner and celebration of the Lunar New Year.
 &lt;/p&gt;\n&lt;p&gt;We'll enjoy time to learn about Korean culture and education abr
 oad options in Korea. Attendees will receive a Korean bag filled with swa
 g. Ten $1\,200 scholarships to a Korean education abroad program and one 
 $500 flight voucher will be awarded!&lt;/p&gt;\n&lt;p&gt;RSVP to Education Abroad at 
 417-836-6368 or educationabroad@missouristate.edu.&lt;/p&gt;&lt;/body&gt;&lt;/html&gt;
DTSTART;TZID=America/Chicago:20230209T173000
DTEND;TZID=America/Chicago:20230209T190000
SEQUENCE:0
URL:https://international.missouristate.edu/educationabroad/
CATEGORIES:Current Students
END:VEVENT
END:VCALENDAR