BEGIN:VCALENDAR
VERSION:2.0
METHOD:PUBLISH
PRODID:-//Missouri State University/Calendar of Events//EN
CALSCALE:GREGORIAN
X-WR-TIMEZONE:America/Chicago
BEGIN:VTIMEZONE
TZID:America/Chicago
BEGIN:DAYLIGHT
TZOFFSETFROM:-0600
TZOFFSETTO:-0500
DTSTART:20070311T020000
RRULE:FREQ=YEARLY;BYMONTH=3;BYDAY=2SU
TZNAME:CDT
END:DAYLIGHT
BEGIN:STANDARD
TZOFFSETFROM:-0500
TZOFFSETTO:-0600
DTSTART:20071104T020000
RRULE:FREQ=YEARLY;BYMONTH=11;BYDAY=1SU
TZNAME:CST
END:STANDARD
END:VTIMEZONE
BEGIN:VEVENT
UID:e0e9bbf2-5d1b-40c0-ae45-7f35b8aab173.224036@calendar.missouristate.edu
CREATED:20230113T061538Z
LAST-MODIFIED:20230113T061538Z
LOCATION:Bolivar\, Mo.
SUMMARY:Missouri State University Women's Track at Bearcat Invitational
DESCRIPTION:Missouri State University Women's Track visits Bearcat Invitat
 ional
X-ALT-DESC;FMTTYPE=text/html:&lt;html&gt;&lt;head&gt;&lt;title&gt;&lt;/title&gt;&lt;/head&gt;&lt;body&gt;Misso
 uri State University Women's Track visits Bearcat Invitational&lt;/body&gt;&lt;/ht
 ml&gt;
DTSTART;VALUE=DATE:20230331
DTEND;VALUE=DATE:20230401
SEQUENCE:1
URL:http://missouristatebears.com/index.aspx?path=wtrack
CATEGORIES:Current Students,Future Students,Parents and Family,Alumni,
 Faculty,Staff,Community,Visitors,Athletics
END:VEVENT
END:VCALENDAR