BEGIN:VCALENDAR
VERSION:2.0
METHOD:PUBLISH
PRODID:-//Missouri State University/Calendar of Events//EN
CALSCALE:GREGORIAN
X-WR-TIMEZONE:America/Chicago
BEGIN:VTIMEZONE
TZID:America/Chicago
BEGIN:DAYLIGHT
TZOFFSETFROM:-0600
TZOFFSETTO:-0500
DTSTART:20070311T020000
RRULE:FREQ=YEARLY;BYMONTH=3;BYDAY=2SU
TZNAME:CDT
END:DAYLIGHT
BEGIN:STANDARD
TZOFFSETFROM:-0500
TZOFFSETTO:-0600
DTSTART:20071104T020000
RRULE:FREQ=YEARLY;BYMONTH=11;BYDAY=1SU
TZNAME:CST
END:STANDARD
END:VTIMEZONE
BEGIN:VEVENT
UID:bb2b3d63-4b90-4d85-a729-91663666d3f4.224054@calendar.missouristate.edu
CREATED:20230223T143341Z
LAST-MODIFIED:20230223T143341Z
LOCATION:Hammons Hall for the Performing Arts\, Juanita K. Performance Hall
SUMMARY:University Symphony Concert
DESCRIPTION:The MSU Music Department invites you to join us for a performa
 nce featuring the University Symphony Orchestra. For more information\, p
 lease communicate with the event contact.
X-ALT-DESC;FMTTYPE=text/html:&lt;html&gt;&lt;head&gt;&lt;title&gt;&lt;/title&gt;&lt;/head&gt;&lt;body&gt;&lt;p&gt;&lt;s
 pan&gt;The MSU Music Department invites you to join us for a performance fea
 turing&amp;nbsp\;the University Symphony Orchestra. For more information\, pl
 ease communicate with the event contact.&lt;/span&gt;&lt;/p&gt;&lt;/body&gt;&lt;/html&gt;
DTSTART;TZID=America/Chicago:20230214T160000
DTEND;TZID=America/Chicago:20230214T173000
SEQUENCE:2
URL:
CATEGORIES:Public,Alumni,Current Students,Faculty,Future Students,Staff
END:VEVENT
END:VCALENDAR