BEGIN:VCALENDAR
VERSION:2.0
METHOD:PUBLISH
PRODID:-//Missouri State University/Calendar of Events//EN
CALSCALE:GREGORIAN
X-WR-TIMEZONE:America/Chicago
BEGIN:VTIMEZONE
TZID:America/Chicago
BEGIN:DAYLIGHT
TZOFFSETFROM:-0600
TZOFFSETTO:-0500
DTSTART:20070311T020000
RRULE:FREQ=YEARLY;BYMONTH=3;BYDAY=2SU
TZNAME:CDT
END:DAYLIGHT
BEGIN:STANDARD
TZOFFSETFROM:-0500
TZOFFSETTO:-0600
DTSTART:20071104T020000
RRULE:FREQ=YEARLY;BYMONTH=11;BYDAY=1SU
TZNAME:CST
END:STANDARD
END:VTIMEZONE
BEGIN:VEVENT
UID:aba9bf2f-21af-4788-afd4-b8ad15bb93b4.224058@calendar.missouristate.edu
CREATED:20230113T203326Z
LAST-MODIFIED:20230113T203326Z
LOCATION:Ellis Hall 220
SUMMARY:Concerto &amp; Aria Competition Concert
DESCRIPTION:The MSU Music Department invites you to join us for a performa
 nce featuring the winner of the Concerto &amp; Aria Competition and the Unive
 rsity Symphony. For more information\, please communicate with the event 
 contact.
X-ALT-DESC;FMTTYPE=text/html:&lt;html&gt;&lt;head&gt;&lt;title&gt;&lt;/title&gt;&lt;/head&gt;&lt;body&gt;&lt;p&gt;&lt;s
 pan&gt;The MSU Music Department invites you to join us for a performance fea
 turing&amp;nbsp\;the winner of the Concerto &amp;amp\; Aria Competition and the U
 niversity Symphony. For more information\, please communicate with the ev
 ent contact.&lt;/span&gt;&lt;/p&gt;&lt;/body&gt;&lt;/html&gt;
DTSTART;TZID=America/Chicago:20230323T193000
DTEND;TZID=America/Chicago:20230323T203000
SEQUENCE:0
URL:
CATEGORIES:Public,Alumni,Current Students,Faculty,Future Students,Staff
END:VEVENT
END:VCALENDAR