BEGIN:VCALENDAR
VERSION:2.0
METHOD:PUBLISH
PRODID:-//Missouri State University/Calendar of Events//EN
CALSCALE:GREGORIAN
X-WR-TIMEZONE:America/Chicago
BEGIN:VTIMEZONE
TZID:America/Chicago
BEGIN:DAYLIGHT
TZOFFSETFROM:-0600
TZOFFSETTO:-0500
DTSTART:20070311T020000
RRULE:FREQ=YEARLY;BYMONTH=3;BYDAY=2SU
TZNAME:CDT
END:DAYLIGHT
BEGIN:STANDARD
TZOFFSETFROM:-0500
TZOFFSETTO:-0600
DTSTART:20071104T020000
RRULE:FREQ=YEARLY;BYMONTH=11;BYDAY=1SU
TZNAME:CST
END:STANDARD
END:VTIMEZONE
BEGIN:VEVENT
UID:0d77a797-9e6e-480a-a6a7-4f17a3d3318b.224059@calendar.missouristate.edu
CREATED:20230304T014037Z
LAST-MODIFIED:20230304T014037Z
LOCATION:Ellis Hall 220\, C. Minor Recital Hall
SUMMARY:Spring Opera - Massenet's "Cinderella"
DESCRIPTION:Join the Missouri State Opera Theatre for its performance of M
 assenet's "Cinderella."
X-ALT-DESC;FMTTYPE=text/html:&lt;html&gt;&lt;head&gt;&lt;title&gt;&lt;/title&gt;&lt;/head&gt;&lt;body&gt;&lt;p&gt;Jo
 in the Missouri State Opera Theatre for its performance of Massenet's "Ci
 nderella."&lt;/p&gt;&lt;/body&gt;&lt;/html&gt;
DTSTART;TZID=America/Chicago:20230331T190000
DTEND;TZID=America/Chicago:20230331T210000
SEQUENCE:2
URL:https://www.missouristate.edu/opera
CATEGORIES:Public,Alumni,Current Students,Faculty,Future Students,Staff
END:VEVENT
END:VCALENDAR