BEGIN:VCALENDAR
VERSION:2.0
METHOD:PUBLISH
PRODID:-//Missouri State University/Calendar of Events//EN
CALSCALE:GREGORIAN
X-WR-TIMEZONE:America/Chicago
BEGIN:VTIMEZONE
TZID:America/Chicago
BEGIN:DAYLIGHT
TZOFFSETFROM:-0600
TZOFFSETTO:-0500
DTSTART:20070311T020000
RRULE:FREQ=YEARLY;BYMONTH=3;BYDAY=2SU
TZNAME:CDT
END:DAYLIGHT
BEGIN:STANDARD
TZOFFSETFROM:-0500
TZOFFSETTO:-0600
DTSTART:20071104T020000
RRULE:FREQ=YEARLY;BYMONTH=11;BYDAY=1SU
TZNAME:CST
END:STANDARD
END:VTIMEZONE
BEGIN:VEVENT
UID:a537980b-7943-45d4-ab01-c7dac90c9725.224064@calendar.missouristate.edu
CREATED:20230118T024945Z
LAST-MODIFIED:20230118T024945Z
LOCATION:Hammons Hall for the Performing Arts\, Juanita K.
SUMMARY:President's Concert
DESCRIPTION:The MSU Music Department invites you to join us for a performa
 nce featuring Ralph Vaughan Williams' A Sea Symphony\, the University Sym
 phony Orchestra and Grand Chorus. For more information\, please communica
 te with the event contact.
X-ALT-DESC;FMTTYPE=text/html:&lt;html&gt;&lt;head&gt;&lt;title&gt;&lt;/title&gt;&lt;/head&gt;&lt;body&gt;&lt;p&gt;Th
 e MSU Music Department invites you to join us for a performance featuring
  Ralph Vaughan Williams' A Sea Symphony\, the University Symphony Orchest
 ra and Grand Chorus. For more information\, please communicate with the e
 vent contact.&lt;/p&gt;&lt;/body&gt;&lt;/html&gt;
DTSTART;TZID=America/Chicago:20230430T153000
DTEND;TZID=America/Chicago:20230430T170000
SEQUENCE:0
URL:117053.jpg
CATEGORIES:Public,Alumni,Current Students,Faculty,Future Students,Staff
END:VEVENT
END:VCALENDAR