BEGIN:VCALENDAR
VERSION:2.0
METHOD:PUBLISH
PRODID:-//Missouri State University/Calendar of Events//EN
CALSCALE:GREGORIAN
X-WR-TIMEZONE:America/Chicago
BEGIN:VTIMEZONE
TZID:America/Chicago
BEGIN:DAYLIGHT
TZOFFSETFROM:-0600
TZOFFSETTO:-0500
DTSTART:20070311T020000
RRULE:FREQ=YEARLY;BYMONTH=3;BYDAY=2SU
TZNAME:CDT
END:DAYLIGHT
BEGIN:STANDARD
TZOFFSETFROM:-0500
TZOFFSETTO:-0600
DTSTART:20071104T020000
RRULE:FREQ=YEARLY;BYMONTH=11;BYDAY=1SU
TZNAME:CST
END:STANDARD
END:VTIMEZONE
BEGIN:VEVENT
UID:c1c6e700-ac88-4a3d-95c1-1a214c8bd42e.224066@calendar.missouristate.edu
CREATED:20230117T164204Z
LAST-MODIFIED:20230117T164204Z
LOCATION:Meyer Library\, Duane G.
SUMMARY:Pet Therapy at Meyer Library
DESCRIPTION:Boris is back! De-stress and decompress with kitty cuddles fro
 m our favorite Maine Coon. This 4-year-old certified pet therapy cat is a
  frequent visitor to Meyer Library. He has polydactyl front paws (two ext
 ra toes)\, which\, according to legend\, is a symbol of good luck. 
X-ALT-DESC;FMTTYPE=text/html:&lt;html&gt;&lt;head&gt;&lt;title&gt;&lt;/title&gt;&lt;/head&gt;&lt;body&gt;&lt;p&gt;&lt;s
 pan&gt;Boris is back! De-stress and decompress with kitty cuddles from our f
 avorite Maine Coon. This 4-year-old certified pet therapy cat is a freque
 nt visitor to Meyer Library. He has polydactyl front paws (two extra toes
 )\, which\, according to legend\, is a symbol of good luck.&amp;nbsp\;&lt;/span&gt;
 &lt;/p&gt;&lt;/body&gt;&lt;/html&gt;
DTSTART;TZID=America/Chicago:20230207T103000
DTEND;TZID=America/Chicago:20230207T120000
SEQUENCE:0
URL:
CATEGORIES:Public,Current Students
END:VEVENT
END:VCALENDAR