BEGIN:VCALENDAR
VERSION:2.0
METHOD:PUBLISH
PRODID:-//Missouri State University/Calendar of Events//EN
CALSCALE:GREGORIAN
X-WR-TIMEZONE:America/Chicago
BEGIN:VTIMEZONE
TZID:America/Chicago
BEGIN:DAYLIGHT
TZOFFSETFROM:-0600
TZOFFSETTO:-0500
DTSTART:20070311T020000
RRULE:FREQ=YEARLY;BYMONTH=3;BYDAY=2SU
TZNAME:CDT
END:DAYLIGHT
BEGIN:STANDARD
TZOFFSETFROM:-0500
TZOFFSETTO:-0600
DTSTART:20071104T020000
RRULE:FREQ=YEARLY;BYMONTH=11;BYDAY=1SU
TZNAME:CST
END:STANDARD
END:VTIMEZONE
BEGIN:VEVENT
UID:a64ce37e-4f18-4b10-9c84-8da1d15d7ce0.224076@calendar.missouristate.edu
CREATED:20230123T161621Z
LAST-MODIFIED:20230123T161621Z
LOCATION:Plaster Free Enterprise Center\, Robert W.
SUMMARY:QuickBooks® Online (Advanced)
DESCRIPTION:Already using QuickBooks® Online and interested in utilizing t
 he features more efficiently? In this hands-on training\, you will learn 
 how to make QBO work for your business through form customization\, recur
 ring transactions\, account reconciliation\, inventory management\, payro
 ll processing and utilizing financial reports.
X-ALT-DESC;FMTTYPE=text/html:&lt;html&gt;&lt;head&gt;&lt;title&gt;&lt;/title&gt;&lt;/head&gt;&lt;body&gt;&lt;p&gt;&lt;s
 pan&gt;Already using QuickBooks® Online and interested in utilizing the feat
 ures more efficiently? In this hands-on training\, you will learn how to 
 make QBO work for your business through form customization\, recurring tr
 ansactions\, account reconciliation\, inventory management\, payroll proc
 essing and utilizing financial reports.&lt;/span&gt;&lt;/p&gt;&lt;/body&gt;&lt;/html&gt;
DTSTART;TZID=America/Chicago:20230214T090000
DTEND;TZID=America/Chicago:20230214T120000
SEQUENCE:0
URL:https://sbdc.missouristate.edu/training/
CATEGORIES:Public
END:VEVENT
END:VCALENDAR