BEGIN:VCALENDAR
VERSION:2.0
METHOD:PUBLISH
PRODID:-//Missouri State University/Calendar of Events//EN
CALSCALE:GREGORIAN
X-WR-TIMEZONE:America/Chicago
BEGIN:VTIMEZONE
TZID:America/Chicago
BEGIN:DAYLIGHT
TZOFFSETFROM:-0600
TZOFFSETTO:-0500
DTSTART:20070311T020000
RRULE:FREQ=YEARLY;BYMONTH=3;BYDAY=2SU
TZNAME:CDT
END:DAYLIGHT
BEGIN:STANDARD
TZOFFSETFROM:-0500
TZOFFSETTO:-0600
DTSTART:20071104T020000
RRULE:FREQ=YEARLY;BYMONTH=11;BYDAY=1SU
TZNAME:CST
END:STANDARD
END:VTIMEZONE
BEGIN:VEVENT
UID:305d1352-d440-41f7-b691-9e569d4a1252.224077@calendar.missouristate.edu
CREATED:20230123T161636Z
LAST-MODIFIED:20230123T161636Z
LOCATION:Plaster Free Enterprise Center\, Robert W.
SUMMARY:Understanding Your Financial Statements
DESCRIPTION:Business owners\, managers\, accountants\, bankers and consult
 ants need to know how to turn financial statements into useful management
  tools. After attending this financial management series\, you will be ab
 le to make better business decisions based on good financial information.
 \n\n\nIn this first class in our financial series\, participants will ide
 ntify key financial information on a Profit and Loss Statement and on the
  Balance Sheet. Participants will also learn how to calculate several fin
 ancial ratios and will understand what those ratios indicate in terms of 
 business productivity and success. Overall\, participants will gain a gre
 ater understanding of how to read and interpret financial documents\, and
  use that information to drive business decisions.
X-ALT-DESC;FMTTYPE=text/html:&lt;html&gt;&lt;head&gt;&lt;title&gt;&lt;/title&gt;&lt;/head&gt;&lt;body&gt;&lt;p&gt;Bu
 siness owners\, managers\, accountants\, bankers and consultants need to 
 know how to turn financial statements into useful management tools. After
  attending this financial management series\, you will be able to make be
 tter business decisions based on good financial information.&lt;/p&gt;\n&lt;p&gt;In t
 his first class in our financial series\, participants will identify key 
 financial information on a Profit and Loss Statement and on the Balance S
 heet. Participants will also learn how to calculate several financial rat
 ios and will understand what those ratios indicate in terms of business p
 roductivity and success. Overall\, participants will gain a greater under
 standing of how to read and interpret financial documents\, and use that 
 information to drive business decisions.&lt;/p&gt;&lt;/body&gt;&lt;/html&gt;
DTSTART;TZID=America/Chicago:20230322T090000
DTEND;TZID=America/Chicago:20230322T120000
SEQUENCE:0
URL:https://sbdc.missouristate.edu/training/
CATEGORIES:Public
END:VEVENT
END:VCALENDAR