BEGIN:VCALENDAR
VERSION:2.0
METHOD:PUBLISH
PRODID:-//Missouri State University/Calendar of Events//EN
CALSCALE:GREGORIAN
X-WR-TIMEZONE:America/Chicago
BEGIN:VTIMEZONE
TZID:America/Chicago
BEGIN:DAYLIGHT
TZOFFSETFROM:-0600
TZOFFSETTO:-0500
DTSTART:20070311T020000
RRULE:FREQ=YEARLY;BYMONTH=3;BYDAY=2SU
TZNAME:CDT
END:DAYLIGHT
BEGIN:STANDARD
TZOFFSETFROM:-0500
TZOFFSETTO:-0600
DTSTART:20071104T020000
RRULE:FREQ=YEARLY;BYMONTH=11;BYDAY=1SU
TZNAME:CST
END:STANDARD
END:VTIMEZONE
BEGIN:VEVENT
UID:110416b5-ff19-471e-99fc-f71a1a3de4c3.224079@calendar.missouristate.edu
CREATED:20230123T161733Z
LAST-MODIFIED:20230123T161733Z
LOCATION:Plaster Free Enterprise Center\, Robert W.
SUMMARY:Planning &amp; Predicting Your Financial Path
DESCRIPTION:Complete your financial education with this third course in ou
 r seminar series. This class is designed to teach you how to create and u
 se a cash budget to prepare for future business performance. During this 
 course\, you will learn to estimate future sources and uses of cash. You 
 will also learn how to analyze your predictions to make more informed dec
 isions. You should leave this session feeling more comfortable about deci
 sions related to preparing for growth\, realistic loan and financing requ
 ests\, how much cash you can safely take out of the business\, and how to
  make affordable purchases for your business. At its conclusion\, you sho
 uld be able to: forecast sales\, receivables and expenses\, use a cash bu
 dget to create a month-by-month view and calculate Break-Even\, as it rel
 ates to business expansions\, workforce additions or capital expenditures.
X-ALT-DESC;FMTTYPE=text/html:&lt;html&gt;&lt;head&gt;&lt;title&gt;&lt;/title&gt;&lt;/head&gt;&lt;body&gt;&lt;p&gt;&lt;s
 pan&gt;Complete your financial education with this third course in our semin
 ar series. This class is designed to teach you how to create and use a ca
 sh budget to prepare for future business performance. During this course\
 , you will learn to estimate future sources and uses of cash. You will al
 so learn how to analyze your predictions to make more informed decisions.
  You should leave this session feeling more comfortable about decisions r
 elated to preparing for growth\, realistic loan and financing requests\, 
 how much cash you can safely take out of the business\, and how to make a
 ffordable purchases for your business. At its conclusion\, you should be 
 able to: forecast sales\, receivables and expenses\, use a cash budget to
  create a month-by-month view and calculate Break-Even\, as it relates to
  business expansions\, workforce additions or capital expenditures.&lt;/span
 &gt;&lt;/p&gt;&lt;/body&gt;&lt;/html&gt;
DTSTART;TZID=America/Chicago:20230405T090000
DTEND;TZID=America/Chicago:20230405T120000
SEQUENCE:0
URL:https://sbdc.missouristate.edu/training/
CATEGORIES:Public
END:VEVENT
END:VCALENDAR