BEGIN:VCALENDAR
VERSION:2.0
METHOD:PUBLISH
PRODID:-//Missouri State University/Calendar of Events//EN
CALSCALE:GREGORIAN
X-WR-TIMEZONE:America/Chicago
BEGIN:VTIMEZONE
TZID:America/Chicago
BEGIN:DAYLIGHT
TZOFFSETFROM:-0600
TZOFFSETTO:-0500
DTSTART:20070311T020000
RRULE:FREQ=YEARLY;BYMONTH=3;BYDAY=2SU
TZNAME:CDT
END:DAYLIGHT
BEGIN:STANDARD
TZOFFSETFROM:-0500
TZOFFSETTO:-0600
DTSTART:20071104T020000
RRULE:FREQ=YEARLY;BYMONTH=11;BYDAY=1SU
TZNAME:CST
END:STANDARD
END:VTIMEZONE
BEGIN:VEVENT
UID:82ee044e-1e3d-4fd9-8952-b901af3b35ce.224082@calendar.missouristate.edu
CREATED:20230131T150619Z
LAST-MODIFIED:20230131T150619Z
LOCATION:Plaster Student Union\, Robert W. Ballroom East
SUMMARY:Brian Heaton's Retirement Reception
DESCRIPTION:Join us to congratulate Brian Heaton on his retirement!
X-ALT-DESC;FMTTYPE=text/html:&lt;html&gt;&lt;head&gt;&lt;title&gt;&lt;/title&gt;&lt;/head&gt;&lt;body&gt;&lt;p&gt;Jo
 in us to congratulate Brian Heaton on his retirement!&lt;/p&gt;&lt;/body&gt;&lt;/html&gt;
DTSTART;TZID=America/Chicago:20230201T150000
DTEND;TZID=America/Chicago:20230201T170000
SEQUENCE:1
URL:https://calendar.missouristate.edu/viewevent.aspx?eventid=117064&amp;occur
 renceid=224082
CATEGORIES:Faculty,Staff
END:VEVENT
END:VCALENDAR