BEGIN:VCALENDAR
VERSION:2.0
METHOD:PUBLISH
PRODID:-//Missouri State University/Calendar of Events//EN
CALSCALE:GREGORIAN
X-WR-TIMEZONE:America/Chicago
BEGIN:VTIMEZONE
TZID:America/Chicago
BEGIN:DAYLIGHT
TZOFFSETFROM:-0600
TZOFFSETTO:-0500
DTSTART:20070311T020000
RRULE:FREQ=YEARLY;BYMONTH=3;BYDAY=2SU
TZNAME:CDT
END:DAYLIGHT
BEGIN:STANDARD
TZOFFSETFROM:-0500
TZOFFSETTO:-0600
DTSTART:20071104T020000
RRULE:FREQ=YEARLY;BYMONTH=11;BYDAY=1SU
TZNAME:CST
END:STANDARD
END:VTIMEZONE
BEGIN:VEVENT
UID:6373ec93-7d5c-49a1-9c22-75b7aa640c47.224113@calendar.missouristate.edu
CREATED:20230120T163641Z
LAST-MODIFIED:20230120T163641Z
LOCATION:Plaster Student Union\, Robert W. PSU Theater
SUMMARY:One Night with Elvis
DESCRIPTION:Watch a performance by Elvis impersonator\, Jay Goff\, followe
 d by a screening of the 2022 movie 'Elvis'! Free peanut butter and banana
  sandwiches and giveaways for an Elvis Funko pop and vinyl album! 
X-ALT-DESC;FMTTYPE=text/html:&lt;html&gt;&lt;head&gt;&lt;title&gt;&lt;/title&gt;&lt;/head&gt;&lt;body&gt;&lt;p&gt;Wa
 tch a performance by Elvis impersonator\, Jay Goff\, followed by a screen
 ing of the 2022 movie 'Elvis'! Free peanut butter and banana sandwiches a
 nd giveaways for an Elvis Funko pop and vinyl album!&amp;nbsp\;&lt;/p&gt;&lt;/body&gt;&lt;/h
 tml&gt;
DTSTART;TZID=America/Chicago:20230124T180000
DTEND;TZID=America/Chicago:20230124T213000
SEQUENCE:0
URL:117070.jpg
CATEGORIES:Public,Current Students
END:VEVENT
END:VCALENDAR