BEGIN:VCALENDAR
VERSION:2.0
METHOD:PUBLISH
PRODID:-//Missouri State University/Calendar of Events//EN
CALSCALE:GREGORIAN
X-WR-TIMEZONE:America/Chicago
BEGIN:VTIMEZONE
TZID:America/Chicago
BEGIN:DAYLIGHT
TZOFFSETFROM:-0600
TZOFFSETTO:-0500
DTSTART:20070311T020000
RRULE:FREQ=YEARLY;BYMONTH=3;BYDAY=2SU
TZNAME:CDT
END:DAYLIGHT
BEGIN:STANDARD
TZOFFSETFROM:-0500
TZOFFSETTO:-0600
DTSTART:20071104T020000
RRULE:FREQ=YEARLY;BYMONTH=11;BYDAY=1SU
TZNAME:CST
END:STANDARD
END:VTIMEZONE
BEGIN:VEVENT
UID:e7b726f9-700b-453a-97a5-ac9198cf89b1.224114@calendar.missouristate.edu
CREATED:20230123T200454Z
LAST-MODIFIED:20230123T200454Z
LOCATION:Plaster Student Union\, Robert W. PSU Atrium\, across from Bear N
 ecessities
SUMMARY:Coats &amp; Cocoa
DESCRIPTION:SAC\, MRC and the Bear Pantry will host free cocoa or coffee\,
  and winter gear. Learn how to get prepared for the winter season! 
X-ALT-DESC;FMTTYPE=text/html:&lt;html&gt;&lt;head&gt;&lt;title&gt;&lt;/title&gt;&lt;/head&gt;&lt;body&gt;&lt;p&gt;SA
 C\, MRC and the Bear Pantry will host free cocoa or coffee\, and winter g
 ear. Learn how to get prepared for the winter season!&amp;nbsp\;&lt;/p&gt;&lt;/body&gt;&lt;/
 html&gt;
DTSTART;TZID=America/Chicago:20230125T120000
DTEND;TZID=America/Chicago:20230125T140000
SEQUENCE:1
URL:117071.jpg
CATEGORIES:Current Students
END:VEVENT
END:VCALENDAR