BEGIN:VCALENDAR
VERSION:2.0
METHOD:PUBLISH
PRODID:-//Missouri State University/Calendar of Events//EN
CALSCALE:GREGORIAN
X-WR-TIMEZONE:America/Chicago
BEGIN:VTIMEZONE
TZID:America/Chicago
BEGIN:DAYLIGHT
TZOFFSETFROM:-0600
TZOFFSETTO:-0500
DTSTART:20070311T020000
RRULE:FREQ=YEARLY;BYMONTH=3;BYDAY=2SU
TZNAME:CDT
END:DAYLIGHT
BEGIN:STANDARD
TZOFFSETFROM:-0500
TZOFFSETTO:-0600
DTSTART:20071104T020000
RRULE:FREQ=YEARLY;BYMONTH=11;BYDAY=1SU
TZNAME:CST
END:STANDARD
END:VTIMEZONE
BEGIN:VEVENT
UID:41d1b3ea-e120-4c58-9106-520daa84d451.224118@calendar.missouristate.edu
CREATED:20230120T163312Z
LAST-MODIFIED:20230120T163312Z
LOCATION:Plaster Student Union\, Robert W. PSU Atrium\, across from Bear N
 ecessities
SUMMARY:Internship Fair - CANCELED
DESCRIPTION:Co-programming with the Career Center\, SAC presents opportuni
 ties to make connections with companies offering internships. \n\n\nFree 
 food and promo cups provided! 
X-ALT-DESC;FMTTYPE=text/html:&lt;html&gt;&lt;head&gt;&lt;title&gt;&lt;/title&gt;&lt;/head&gt;&lt;body&gt;&lt;p&gt;Co
 -programming with the Career Center\, SAC presents opportunities to make 
 connections with companies offering internships.&amp;nbsp\;&lt;/p&gt;\n&lt;p&gt;Free food
  and promo cups provided!&amp;nbsp\;&lt;/p&gt;&lt;/body&gt;&lt;/html&gt;
DTSTART;TZID=America/Chicago:20230131T110000
DTEND;TZID=America/Chicago:20230131T140000
SEQUENCE:1
URL:117075.jpg
CATEGORIES:Current Students
END:VEVENT
END:VCALENDAR