BEGIN:VCALENDAR
VERSION:2.0
METHOD:PUBLISH
PRODID:-//Missouri State University/Calendar of Events//EN
CALSCALE:GREGORIAN
X-WR-TIMEZONE:America/Chicago
BEGIN:VTIMEZONE
TZID:America/Chicago
BEGIN:DAYLIGHT
TZOFFSETFROM:-0600
TZOFFSETTO:-0500
DTSTART:20070311T020000
RRULE:FREQ=YEARLY;BYMONTH=3;BYDAY=2SU
TZNAME:CDT
END:DAYLIGHT
BEGIN:STANDARD
TZOFFSETFROM:-0500
TZOFFSETTO:-0600
DTSTART:20071104T020000
RRULE:FREQ=YEARLY;BYMONTH=11;BYDAY=1SU
TZNAME:CST
END:STANDARD
END:VTIMEZONE
BEGIN:VEVENT
UID:8637d837-9ea6-433e-88a8-76d7e018ee9c.224121@calendar.missouristate.edu
CREATED:20230120T163033Z
LAST-MODIFIED:20230120T163033Z
LOCATION:Plaster Student Union\, Robert W. PSU Remembrance Lounge\, 2nd Fl
 oor
SUMMARY:Bear Wear Friday Spirit Table
DESCRIPTION:Show us how much you love BearWear Friday to receive snacks\, 
 sweet treats\, and promos! 
X-ALT-DESC;FMTTYPE=text/html:&lt;html&gt;&lt;head&gt;&lt;title&gt;&lt;/title&gt;&lt;/head&gt;&lt;body&gt;&lt;p&gt;Sh
 ow us how much you love BearWear Friday to receive snacks\, sweet treats\
 , and promos!&amp;nbsp\;&lt;/p&gt;&lt;/body&gt;&lt;/html&gt;
DTSTART;TZID=America/Chicago:20230203T113000
DTEND;TZID=America/Chicago:20230203T133000
SEQUENCE:0
URL:117078.jpg
CATEGORIES:Current Students
END:VEVENT
END:VCALENDAR