BEGIN:VCALENDAR
VERSION:2.0
METHOD:PUBLISH
PRODID:-//Missouri State University/Calendar of Events//EN
CALSCALE:GREGORIAN
X-WR-TIMEZONE:America/Chicago
BEGIN:VTIMEZONE
TZID:America/Chicago
BEGIN:DAYLIGHT
TZOFFSETFROM:-0600
TZOFFSETTO:-0500
DTSTART:20070311T020000
RRULE:FREQ=YEARLY;BYMONTH=3;BYDAY=2SU
TZNAME:CDT
END:DAYLIGHT
BEGIN:STANDARD
TZOFFSETFROM:-0500
TZOFFSETTO:-0600
DTSTART:20071104T020000
RRULE:FREQ=YEARLY;BYMONTH=11;BYDAY=1SU
TZNAME:CST
END:STANDARD
END:VTIMEZONE
BEGIN:VEVENT
UID:70c7b8f4-4119-4c3e-90d6-56131cd3adab.224123@calendar.missouristate.edu
CREATED:20230120T162813Z
LAST-MODIFIED:20230120T162813Z
LOCATION:Great Southern Bank Arena
SUMMARY:Basketball T-Shirt Giveaway
DESCRIPTION:Join TC at the basketball game and get a free white t-shirt! 
X-ALT-DESC;FMTTYPE=text/html:&lt;html&gt;&lt;head&gt;&lt;title&gt;&lt;/title&gt;&lt;/head&gt;&lt;body&gt;&lt;p&gt;Jo
 in TC at the basketball game and get a free white t-shirt!&amp;nbsp\;&lt;/p&gt;&lt;/bo
 dy&gt;&lt;/html&gt;
DTSTART;TZID=America/Chicago:20230201T183000
DTEND;TZID=America/Chicago:20230201T203000
SEQUENCE:0
URL:117080.jpg
CATEGORIES:Current Students
END:VEVENT
END:VCALENDAR