BEGIN:VCALENDAR
VERSION:2.0
METHOD:PUBLISH
PRODID:-//Missouri State University/Calendar of Events//EN
CALSCALE:GREGORIAN
X-WR-TIMEZONE:America/Chicago
BEGIN:VTIMEZONE
TZID:America/Chicago
BEGIN:DAYLIGHT
TZOFFSETFROM:-0600
TZOFFSETTO:-0500
DTSTART:20070311T020000
RRULE:FREQ=YEARLY;BYMONTH=3;BYDAY=2SU
TZNAME:CDT
END:DAYLIGHT
BEGIN:STANDARD
TZOFFSETFROM:-0500
TZOFFSETTO:-0600
DTSTART:20071104T020000
RRULE:FREQ=YEARLY;BYMONTH=11;BYDAY=1SU
TZNAME:CST
END:STANDARD
END:VTIMEZONE
BEGIN:VEVENT
UID:b3fef302-fd15-4642-9a79-c8f13322188a.224132@calendar.missouristate.edu
CREATED:20230125T022749Z
LAST-MODIFIED:20230125T022749Z
LOCATION:Craig Hall Coger Theatre
SUMMARY:In Vain - Theatre &amp; Dance Mainstage Production
DESCRIPTION:Seventeen-year-old Vivian has led a most sheltered life. The o
 nly child of eccentric Hollywood actress Madeline Wilde\, Vivian has been
  hidden away in a gated mansion without mirrors\, forbidden to see her ow
 n image. Following Madeline’s untimely death\, Vivian’s stunning beauty i
 s finally revealed to the world at her mother’s funeral. Award-winning ce
 lebrity photographer Andi Marco shoots a portrait that captures Vivian’s 
 outward perfection\, and Vivian makes a fateful wish to remain as young a
 nd beautiful as she is at that moment. As the years pass and her sins pil
 e up\, Vivian’s physical appearance remains eerily unchanged\; however\, 
 the portrait\, which she has hidden in her basement\, has a life of its o
 wn! A witty new spin on Oscar Wilde’s gothic novel “The Picture of Dorian
  Gray\,” "In Vain" satirizes pop culture’s obsession with youth\, beauty 
 and fame.\n\n\nDon’t miss the world premiere of this exciting new musical!
X-ALT-DESC;FMTTYPE=text/html:&lt;html&gt;&lt;head&gt;&lt;title&gt;&lt;/title&gt;&lt;/head&gt;&lt;body&gt;&lt;p&gt;Se
 venteen-year-old Vivian has led a most sheltered life. The only child of 
 eccentric Hollywood actress Madeline Wilde\, Vivian has been hidden away 
 in a gated mansion without mirrors\, forbidden to see her own image. Foll
 owing Madeline’s untimely death\, Vivian’s stunning beauty is finally rev
 ealed to the world at her mother’s funeral. Award-winning celebrity photo
 grapher Andi Marco shoots a portrait that captures Vivian’s outward perfe
 ction\, and Vivian makes a fateful wish to remain as young and beautiful 
 as she is at that moment. As the years pass and her sins pile up\, Vivian
 ’s physical appearance remains eerily unchanged\; however\, the portrait\
 , which she has hidden in her basement\, has a life of its own! A witty n
 ew spin on Oscar Wilde’s gothic novel “The Picture of Dorian Gray\,” "In 
 Vain" satirizes pop culture’s obsession with youth\, beauty and fame.&lt;/p&gt;
 \n&lt;p&gt;Don’t miss the&amp;nbsp\;&lt;strong&gt;world premiere&lt;/strong&gt; of this excitin
 g new musical!&lt;/p&gt;&lt;/body&gt;&lt;/html&gt;
DTSTART;TZID=America/Chicago:20230413T193000
DTEND;TZID=America/Chicago:20230413T220000
SEQUENCE:0
URL:http://missouristatetix.com
CATEGORIES:Public
END:VEVENT
END:VCALENDAR