BEGIN:VCALENDAR
VERSION:2.0
METHOD:PUBLISH
PRODID:-//Missouri State University/Calendar of Events//EN
CALSCALE:GREGORIAN
X-WR-TIMEZONE:America/Chicago
BEGIN:VTIMEZONE
TZID:America/Chicago
BEGIN:DAYLIGHT
TZOFFSETFROM:-0600
TZOFFSETTO:-0500
DTSTART:20070311T020000
RRULE:FREQ=YEARLY;BYMONTH=3;BYDAY=2SU
TZNAME:CDT
END:DAYLIGHT
BEGIN:STANDARD
TZOFFSETFROM:-0500
TZOFFSETTO:-0600
DTSTART:20071104T020000
RRULE:FREQ=YEARLY;BYMONTH=11;BYDAY=1SU
TZNAME:CST
END:STANDARD
END:VTIMEZONE
BEGIN:VEVENT
UID:49a7c908-1688-41a9-a462-6ee5e97eac68.224136@calendar.missouristate.edu
CREATED:20230125T024426Z
LAST-MODIFIED:20230125T024426Z
LOCATION:Craig Hall Coger Theatre
SUMMARY:Spring Dance Concert: "Art in Motion" - Theatre &amp; Dance Mainstage 
 Production
DESCRIPTION:Artists throughout the ages have been fascinated by dance and 
 have sought to capture its beauty\, grace and energy. Perhaps this is bec
 ause dance is such a sensory feast! If you think of a dance as a 3-D movi
 ng picture\, the visual art elements of line\, shape\, color\, texture\, 
 contrast and composition are all there — wonderfully animated by rhythm a
 nd music. Dance has a unique power to express ideas and emotions\, from t
 he most primal to the most ethereal\, as the performers bring their canva
 s to life. Come and share the joy of "Art in Motion" as we present a gall
 ery of vibrant\, new works by our students\, faculty and guest artists!
X-ALT-DESC;FMTTYPE=text/html:&lt;html&gt;&lt;head&gt;&lt;title&gt;&lt;/title&gt;&lt;/head&gt;&lt;body&gt;&lt;p&gt;&lt;s
 pan&gt;Artists throughout the ages have been fascinated by dance and have so
 ught to capture its beauty\, grace and energy. Perhaps this is because da
 nce is such a sensory feast! If you think of a dance as a 3-D moving pict
 ure\, the visual art elements of line\, shape\, color\, texture\, contras
 t and composition are all there — wonderfully animated by rhythm and musi
 c. Dance has a unique power to express ideas and emotions\, from the most
  primal to the most ethereal\, as the performers bring their canvas to li
 fe. Come and share the joy of "Art in Motion" as we present a gallery of 
 vibrant\, new works by our students\, faculty and guest artists!&lt;/span&gt;&lt;/
 p&gt;&lt;/body&gt;&lt;/html&gt;
DTSTART;TZID=America/Chicago:20230504T193000
DTEND;TZID=America/Chicago:20230504T211500
SEQUENCE:0
URL:http://Missouristatetix.com
CATEGORIES:Public
END:VEVENT
END:VCALENDAR