BEGIN:VCALENDAR
VERSION:2.0
METHOD:PUBLISH
PRODID:-//Missouri State University/Calendar of Events//EN
CALSCALE:GREGORIAN
X-WR-TIMEZONE:America/Chicago
BEGIN:VTIMEZONE
TZID:America/Chicago
BEGIN:DAYLIGHT
TZOFFSETFROM:-0600
TZOFFSETTO:-0500
DTSTART:20070311T020000
RRULE:FREQ=YEARLY;BYMONTH=3;BYDAY=2SU
TZNAME:CDT
END:DAYLIGHT
BEGIN:STANDARD
TZOFFSETFROM:-0500
TZOFFSETTO:-0600
DTSTART:20071104T020000
RRULE:FREQ=YEARLY;BYMONTH=11;BYDAY=1SU
TZNAME:CST
END:STANDARD
END:VTIMEZONE
BEGIN:VEVENT
UID:fe3a328b-47bb-4c63-9a72-f8473a39f576.224165@calendar.missouristate.edu
CREATED:20230127T224439Z
LAST-MODIFIED:20230127T224439Z
LOCATION:Plaster Free Enterprise Center\, Robert W.
SUMMARY:Managing Team Attitudes &amp; Expectations
DESCRIPTION:This seminar examines the team building skills needed to manag
 e and lead in today’s workforce. Emphasis is placed on understanding the 
 intricacies of team development and identifying strategies for forming an
 d maintaining effective teams. Participants will be given the opportunity
  to practice and assess their skills as a team member and team leader.Key
  information:\n\n\n\nAssess your own skills as a team member/leader\n\n\n
 Create &amp; articulate team direction &amp; vision\n\n\nDiagnose team developmen
 t\n\n\nUtilize appropriate intervention techniques\n\n\nManage relationsh
 ips within the team\n\n\nDetermine the most effective problem-solving str
 ategies\n\n\nStrategies to motivate your team\n\nThis seminar features an
  action learning structure that combines discussions\, case studies and a
 ctivities.
X-ALT-DESC;FMTTYPE=text/html:&lt;html&gt;&lt;head&gt;&lt;title&gt;&lt;/title&gt;&lt;/head&gt;&lt;body&gt;&lt;p&gt;Th
 is seminar examines the team building skills needed to manage and lead in
  today’s workforce. Emphasis is placed on understanding the intricacies o
 f team development and identifying strategies for forming and maintaining
  effective teams. Participants will be given the opportunity to practice 
 and assess their skills as a team member and team leader.&lt;br&gt;&lt;br&gt;Key info
 rmation:&lt;/p&gt;\n&lt;ul&gt;\n&lt;li&gt;Assess your own skills as a team member/leader&lt;/l
 i&gt;\n&lt;/ul&gt;\n&lt;ul&gt;\n&lt;li&gt;Create &amp;amp\; articulate team direction &amp;amp\; visio
 n&lt;/li&gt;\n&lt;/ul&gt;\n&lt;ul&gt;\n&lt;li&gt;Diagnose team development&lt;/li&gt;\n&lt;/ul&gt;\n&lt;ul&gt;\n&lt;li
 &gt;Utilize appropriate intervention techniques&lt;/li&gt;\n&lt;/ul&gt;\n&lt;ul&gt;\n&lt;li&gt;Manag
 e relationships within the team&lt;/li&gt;\n&lt;/ul&gt;\n&lt;ul&gt;\n&lt;li&gt;Determine the most
  effective problem-solving strategies&lt;/li&gt;\n&lt;/ul&gt;\n&lt;ul&gt;\n&lt;li&gt;Strategies t
 o motivate your team&lt;/li&gt;\n&lt;/ul&gt;\n&lt;p&gt;&lt;br&gt;This seminar features an action 
 learning structure that combines discussions\, case studies and activitie
 s.&lt;/p&gt;&lt;/body&gt;&lt;/html&gt;
DTSTART;TZID=America/Chicago:20230328T090000
DTEND;TZID=America/Chicago:20230328T120000
SEQUENCE:1
URL:https://sbdc.missouristate.edu/training/
CATEGORIES:Public
END:VEVENT
END:VCALENDAR