BEGIN:VCALENDAR
VERSION:2.0
METHOD:PUBLISH
PRODID:-//Missouri State University/Calendar of Events//EN
CALSCALE:GREGORIAN
X-WR-TIMEZONE:America/Chicago
BEGIN:VTIMEZONE
TZID:America/Chicago
BEGIN:DAYLIGHT
TZOFFSETFROM:-0600
TZOFFSETTO:-0500
DTSTART:20070311T020000
RRULE:FREQ=YEARLY;BYMONTH=3;BYDAY=2SU
TZNAME:CDT
END:DAYLIGHT
BEGIN:STANDARD
TZOFFSETFROM:-0500
TZOFFSETTO:-0600
DTSTART:20071104T020000
RRULE:FREQ=YEARLY;BYMONTH=11;BYDAY=1SU
TZNAME:CST
END:STANDARD
END:VTIMEZONE
BEGIN:VEVENT
UID:f3776e81-1e6a-4761-89bf-98e2f2affec5.224185@calendar.missouristate.edu
CREATED:20230127T224605Z
LAST-MODIFIED:20230127T224605Z
LOCATION:Plaster Free Enterprise Center\, Robert W.
SUMMARY:Discover &amp; Lead with Your Strengths
DESCRIPTION:Every day\, employees are spending more and more time working 
 in team and group situations. But few of them have ever received any trai
 ning in how to succeed in these situations. Many employees are even threa
 tened by the process.During this program\, you will learn and practice th
 e fundamentals of building effective and productive work groups. You will
  walk away from this program with tools and techniques that can help you 
 turn low-performance groups into high-performance teams.You will take a s
 elf-assessment in advance of this training to learn your top 34 strengths
  and how you can work better and more productively in a team environment.
X-ALT-DESC;FMTTYPE=text/html:&lt;html&gt;&lt;head&gt;&lt;title&gt;&lt;/title&gt;&lt;/head&gt;&lt;body&gt;&lt;p&gt;Ev
 ery day\, employees are spending more and more time working in team and g
 roup situations. But few of them have ever received any training in how t
 o succeed in these situations. Many employees are even threatened by the 
 process.&lt;br&gt;&lt;br&gt;During this program\, you will learn and practice the fun
 damentals of building effective and productive work groups. You will walk
  away from this program with tools and techniques that can help you turn 
 low-performance groups into high-performance teams.&lt;br&gt;&lt;br&gt;You will take 
 a self-assessment in advance of this training to learn your top 34 streng
 ths and how you can work better and more productively in a team environme
 nt.&lt;/p&gt;&lt;/body&gt;&lt;/html&gt;
DTSTART;TZID=America/Chicago:20230404T090000
DTEND;TZID=America/Chicago:20230404T160000
SEQUENCE:0
URL:https://sbdc.missouristate.edu/training/
CATEGORIES:Public
END:VEVENT
END:VCALENDAR