BEGIN:VCALENDAR
VERSION:2.0
METHOD:PUBLISH
PRODID:-//Missouri State University/Calendar of Events//EN
CALSCALE:GREGORIAN
X-WR-TIMEZONE:America/Chicago
BEGIN:VTIMEZONE
TZID:America/Chicago
BEGIN:DAYLIGHT
TZOFFSETFROM:-0600
TZOFFSETTO:-0500
DTSTART:20070311T020000
RRULE:FREQ=YEARLY;BYMONTH=3;BYDAY=2SU
TZNAME:CDT
END:DAYLIGHT
BEGIN:STANDARD
TZOFFSETFROM:-0500
TZOFFSETTO:-0600
DTSTART:20071104T020000
RRULE:FREQ=YEARLY;BYMONTH=11;BYDAY=1SU
TZNAME:CST
END:STANDARD
END:VTIMEZONE
BEGIN:VEVENT
UID:a7a3b351-53f3-4fa2-afc2-7ca9921028fc.224187@calendar.missouristate.edu
CREATED:20230127T224700Z
LAST-MODIFIED:20230127T224700Z
LOCATION:Plaster Free Enterprise Center\, Robert W.
SUMMARY:The Effective Leader
DESCRIPTION:Increasingly\, organizations are realizing the need for leader
 ship at all levels. Because people want to be led\, not managed\, manager
 s need to develop as leaders in addition to being highly competent in fun
 ctional management areas. There is an impressive body of knowledge regard
 ing leadership\, and the skills needed to be an effective leader. The Eff
 ective Leader/Manager will address five key areas of managerial effective
 ness.\n\n\nThis course is designed around the Management Competency Model
  based on The Leadership Challenge model by Kouzes and Posner.
X-ALT-DESC;FMTTYPE=text/html:&lt;html&gt;&lt;head&gt;&lt;title&gt;&lt;/title&gt;&lt;/head&gt;&lt;body&gt;&lt;p&gt;In
 creasingly\, organizations are realizing the need for leadership at all l
 evels. Because people want to be led\, not managed\, managers need to dev
 elop as leaders in addition to being highly competent in functional manag
 ement areas. There is an impressive body of knowledge regarding leadershi
 p\, and the skills needed to be an effective leader. The Effective Leader
 /Manager will address five key areas of managerial effectiveness.&lt;/p&gt;\n&lt;p
 &gt;This course is designed around the Management Competency Model based on 
 The Leadership Challenge model by Kouzes and Posner.&lt;/p&gt;&lt;/body&gt;&lt;/html&gt;
DTSTART;TZID=America/Chicago:20230412T090000
DTEND;TZID=America/Chicago:20230412T160000
SEQUENCE:0
URL:https://sbdc.missouristate.edu/training/
CATEGORIES:Public
END:VEVENT
END:VCALENDAR