BEGIN:VCALENDAR
VERSION:2.0
METHOD:PUBLISH
PRODID:-//Missouri State University/Calendar of Events//EN
CALSCALE:GREGORIAN
X-WR-TIMEZONE:America/Chicago
BEGIN:VTIMEZONE
TZID:America/Chicago
BEGIN:DAYLIGHT
TZOFFSETFROM:-0600
TZOFFSETTO:-0500
DTSTART:20070311T020000
RRULE:FREQ=YEARLY;BYMONTH=3;BYDAY=2SU
TZNAME:CDT
END:DAYLIGHT
BEGIN:STANDARD
TZOFFSETFROM:-0500
TZOFFSETTO:-0600
DTSTART:20071104T020000
RRULE:FREQ=YEARLY;BYMONTH=11;BYDAY=1SU
TZNAME:CST
END:STANDARD
END:VTIMEZONE
BEGIN:VEVENT
UID:bbed6894-22ce-46e9-a741-0a72527cf712.224209@calendar.missouristate.edu
CREATED:20230124T045149Z
LAST-MODIFIED:20230124T045149Z
LOCATION:Plaster Student Union\, Robert W. Suite 101 (Multicultural Resour
 ce Center)
SUMMARY:MRC Career Week 
DESCRIPTION:Open to ALL students - no registration required.\n\n\nThe Care
 er Center invites you to join us in the Multicultural Resource Center (MR
 C) for a week of career related workshops.\n\n\nJan. 31\; 12-2 p.m.\n\n\n
 \nResume drop-in hours - MRC entrance (PSU 1st floor)\nClothes closet/dre
 ss for success assistance - MRC (PSU Suite 101)\n\nFeb. 1\; 2-4 p.m.\n\n\
 n\n LinkedIn workshop (2-2:45 p.m.) - MRC (PSU Suite 101)\n Central Bank 
 diversity internship &amp; networking event (3-4 p.m.) -   MRC (PSU Suite 101
 ) \n\nFeb. 2\; 12:30-1:30 p.m.\n\n\n\nGrad school workshop (12:30-1 p.m.)
  - MRC (PSU Suite 101) \nHandshake workshop (1-1:30 p.m.) - MRC (PSU Suit
 e 101)
X-ALT-DESC;FMTTYPE=text/html:&lt;html&gt;&lt;head&gt;&lt;title&gt;&lt;/title&gt;&lt;/head&gt;&lt;body&gt;&lt;p&gt;&lt;s
 trong&gt;Open to ALL students - no registration required.&lt;/strong&gt;&lt;/p&gt;\n&lt;p&gt;T
 he Career Center invites you to join us in the Multicultural Resource Cen
 ter (MRC) for a week of career related workshops.&lt;/p&gt;\n&lt;p&gt;&lt;strong&gt;Jan. 31
 \; 12-2 p.m.&lt;/strong&gt;&lt;/p&gt;\n&lt;ul&gt;\n&lt;li&gt;Resume drop-in hours - MRC entrance 
 (PSU 1st floor)&lt;/li&gt;\n&lt;li&gt;Clothes closet/dress for success assistance - M
 RC (PSU Suite 101)&lt;/li&gt;\n&lt;/ul&gt;\n&lt;p&gt;&lt;strong&gt;Feb. 1\;&amp;nbsp\;2-4 p.m.&lt;/stron
 g&gt;&lt;/p&gt;\n&lt;ul&gt;\n&lt;li&gt;&amp;nbsp\;LinkedIn workshop (2-2:45 p.m.) - MRC (PSU Suite
  101)&lt;/li&gt;\n&lt;li&gt;&amp;nbsp\;Central Bank diversity internship &amp;amp\; networkin
 g event (3-4 p.m.) -&amp;nbsp\; &amp;nbsp\;MRC (PSU Suite 101)&amp;nbsp\;&lt;/li&gt;\n&lt;/ul&gt;
 \n&lt;p&gt;&lt;strong&gt;Feb. 2\; 12:30-1:30 p.m.&lt;/strong&gt;&lt;/p&gt;\n&lt;ul&gt;\n&lt;li&gt;Grad school
  workshop (12:30-1 p.m.) - MRC (PSU Suite 101)&amp;nbsp\;&lt;/li&gt;\n&lt;li&gt;Handshake
  workshop (1-1:30 p.m.) - MRC (PSU Suite 101)&lt;/li&gt;\n&lt;/ul&gt;&lt;/body&gt;&lt;/html&gt;
DTSTART;TZID=America/Chicago:20230131T120000
DTEND;TZID=America/Chicago:20230131T140000
SEQUENCE:0
URL:https://careercenter.missouristate.edu/
CATEGORIES:Current Students
END:VEVENT
END:VCALENDAR