BEGIN:VCALENDAR
VERSION:2.0
METHOD:PUBLISH
PRODID:-//Missouri State University/Calendar of Events//EN
CALSCALE:GREGORIAN
X-WR-TIMEZONE:America/Chicago
BEGIN:VTIMEZONE
TZID:America/Chicago
BEGIN:DAYLIGHT
TZOFFSETFROM:-0600
TZOFFSETTO:-0500
DTSTART:20070311T020000
RRULE:FREQ=YEARLY;BYMONTH=3;BYDAY=2SU
TZNAME:CDT
END:DAYLIGHT
BEGIN:STANDARD
TZOFFSETFROM:-0500
TZOFFSETTO:-0600
DTSTART:20071104T020000
RRULE:FREQ=YEARLY;BYMONTH=11;BYDAY=1SU
TZNAME:CST
END:STANDARD
END:VTIMEZONE
BEGIN:VEVENT
UID:f8c27bdc-f28e-486a-b37a-9893a3e0adab.224217@calendar.missouristate.edu
CREATED:20230124T152924Z
LAST-MODIFIED:20230124T152924Z
LOCATION:Plaster Student Union\, Robert W. Ballroom West
SUMMARY:Fall 2023 New Graduate Teaching Assistant Orientation
DESCRIPTION:Please join us for the fall 2023 New Graduate Teaching Assista
 nt Orientation.
X-ALT-DESC;FMTTYPE=text/html:&lt;html&gt;&lt;head&gt;&lt;title&gt;&lt;/title&gt;&lt;/head&gt;&lt;body&gt;&lt;p&gt;Pl
 ease join us for the fall 2023 New Graduate Teaching Assistant Orientatio
 n.&lt;/p&gt;&lt;/body&gt;&lt;/html&gt;
DTSTART;TZID=America/Chicago:20230814T080000
DTEND;TZID=America/Chicago:20230814T170000
SEQUENCE:0
URL:https://graduate.missouristate.edu/CurrentStudents/Orientations.htm
CATEGORIES:Current Students
END:VEVENT
END:VCALENDAR