BEGIN:VCALENDAR
VERSION:2.0
METHOD:PUBLISH
PRODID:-//Missouri State University/Calendar of Events//EN
CALSCALE:GREGORIAN
X-WR-TIMEZONE:America/Chicago
BEGIN:VTIMEZONE
TZID:America/Chicago
BEGIN:DAYLIGHT
TZOFFSETFROM:-0600
TZOFFSETTO:-0500
DTSTART:20070311T020000
RRULE:FREQ=YEARLY;BYMONTH=3;BYDAY=2SU
TZNAME:CDT
END:DAYLIGHT
BEGIN:STANDARD
TZOFFSETFROM:-0500
TZOFFSETTO:-0600
DTSTART:20071104T020000
RRULE:FREQ=YEARLY;BYMONTH=11;BYDAY=1SU
TZNAME:CST
END:STANDARD
END:VTIMEZONE
BEGIN:VEVENT
UID:75016b8b-85a9-455d-a10a-4e3fb554de5b.224218@calendar.missouristate.edu
CREATED:20230208T174956Z
LAST-MODIFIED:20230208T174956Z
LOCATION:Siceluff Hall 126
SUMMARY:RCOAL Research Symposium: Dr. Heidi Backes
DESCRIPTION:Dr. Heidi Backes presents on Spanish Gothic literature\, title
 d "Spectral Spain: Haunting Traces of the Fascist Past in Contemporary Sp
 anish Gothic Fiction."\n\n\nThe Judith Enyeart Reynolds College of Arts a
 nd Letters Research Symposium is designed to showcase and celebrate the i
 nterdisciplinary research of the faculty at Missouri State University. Th
 is spring\, attendees can enjoy presentations on a variety of topics that
  will blend lecture\, media and discussion.
X-ALT-DESC;FMTTYPE=text/html:&lt;html&gt;&lt;head&gt;&lt;title&gt;&lt;/title&gt;&lt;/head&gt;&lt;body&gt;&lt;p&gt;&lt;a
  href="https://www.missouristate.edu/WLC/profile-display.aspx?p=HBackes"&gt;
 Dr. Heidi Backes&lt;/a&gt; presents on Spanish Gothic literature\, titled "Spec
 tral Spain: Haunting Traces of the Fascist Past in Contemporary Spanish G
 othic Fiction."&lt;/p&gt;\n&lt;p&gt;The&amp;nbsp\;&lt;a href="https://blogs.missouristate.ed
 u/coalexpressions/rcoal-research-symposium-spring-2023/"&gt;Judith Enyeart R
 eynolds College of Arts and Letters Research Symposium&lt;/a&gt; is designed to
  showcase and celebrate the interdisciplinary research of the faculty at 
 Missouri State University. This spring\, attendees can enjoy presentation
 s on a variety of topics that will blend lecture\, media and discussion.&lt;
 /p&gt;&lt;/body&gt;&lt;/html&gt;
DTSTART;TZID=America/Chicago:20230217T121500
DTEND;TZID=America/Chicago:20230217T131500
SEQUENCE:0
URL:https://rcoal.MissouriState.edu
CATEGORIES:Public,Alumni,Current Students,Faculty,Future Students,Staff
END:VEVENT
END:VCALENDAR