BEGIN:VCALENDAR
VERSION:2.0
METHOD:PUBLISH
PRODID:-//Missouri State University/Calendar of Events//EN
CALSCALE:GREGORIAN
X-WR-TIMEZONE:America/Chicago
BEGIN:VTIMEZONE
TZID:America/Chicago
BEGIN:DAYLIGHT
TZOFFSETFROM:-0600
TZOFFSETTO:-0500
DTSTART:20070311T020000
RRULE:FREQ=YEARLY;BYMONTH=3;BYDAY=2SU
TZNAME:CDT
END:DAYLIGHT
BEGIN:STANDARD
TZOFFSETFROM:-0500
TZOFFSETTO:-0600
DTSTART:20071104T020000
RRULE:FREQ=YEARLY;BYMONTH=11;BYDAY=1SU
TZNAME:CST
END:STANDARD
END:VTIMEZONE
BEGIN:VEVENT
UID:9de0b74e-63fc-4f5b-9389-c4cadd34da59.224219@calendar.missouristate.edu
CREATED:20230205T032722Z
LAST-MODIFIED:20230205T032722Z
LOCATION:Siceluff Hall 126
SUMMARY:RCOAL Research Symposium: Dr. Billie Follensbee
DESCRIPTION:Dr. Billie Follensbee will give a presentation on Olmec sculpt
 ures\, titled “Finding the Right Niche: Overlap\, Ambiguity\, and Meaning
  in Olmec Large Stone Sculpture.”\n\n\nThe Judith Enyeart Reynolds Colleg
 e of Arts and Letters Research Symposium is designed to showcase and cele
 brate the interdisciplinary research of the faculty at Missouri State Uni
 versity. This spring\, attendees can enjoy presentations on a variety of 
 topics that will blend lecture\, media and discussion.
X-ALT-DESC;FMTTYPE=text/html:&lt;html&gt;&lt;head&gt;&lt;title&gt;&lt;/title&gt;&lt;/head&gt;&lt;body&gt;&lt;p&gt;&lt;a
  href="https://art.missouristate.edu/profile-display.aspx?p=BillieFollens
 bee"&gt;Dr. Billie Follensbee&lt;/a&gt;&amp;nbsp\;will give a presentation on Olmec sc
 ulptures\, titled “Finding the Right Niche: Overlap\, Ambiguity\, and Mea
 ning in Olmec Large Stone Sculpture.”&lt;/p&gt;\n&lt;p&gt;The&amp;nbsp\;&lt;a href="https://
 blogs.missouristate.edu/coalexpressions/rcoal-research-symposium-spring-2
 023/"&gt;Judith Enyeart Reynolds College of Arts and Letters Research Sympos
 ium&lt;/a&gt; is designed to showcase and celebrate the interdisciplinary resea
 rch of the faculty at Missouri State University. This spring\, attendees 
 can enjoy presentations on a variety of topics that will blend lecture\, 
 media and discussion.&lt;/p&gt;&lt;/body&gt;&lt;/html&gt;
DTSTART;TZID=America/Chicago:20230303T121500
DTEND;TZID=America/Chicago:20230303T131500
SEQUENCE:0
URL:https://rcoal.MissouriState.edu
CATEGORIES:Public,Alumni,Current Students,Faculty,Future Students,Staff
END:VEVENT
END:VCALENDAR