BEGIN:VCALENDAR
VERSION:2.0
METHOD:PUBLISH
PRODID:-//Missouri State University/Calendar of Events//EN
CALSCALE:GREGORIAN
X-WR-TIMEZONE:America/Chicago
BEGIN:VTIMEZONE
TZID:America/Chicago
BEGIN:DAYLIGHT
TZOFFSETFROM:-0600
TZOFFSETTO:-0500
DTSTART:20070311T020000
RRULE:FREQ=YEARLY;BYMONTH=3;BYDAY=2SU
TZNAME:CDT
END:DAYLIGHT
BEGIN:STANDARD
TZOFFSETFROM:-0500
TZOFFSETTO:-0600
DTSTART:20071104T020000
RRULE:FREQ=YEARLY;BYMONTH=11;BYDAY=1SU
TZNAME:CST
END:STANDARD
END:VTIMEZONE
BEGIN:VEVENT
UID:17b53e25-ae99-470f-85fa-93981522f032.224220@calendar.missouristate.edu
CREATED:20230208T180058Z
LAST-MODIFIED:20230208T180058Z
LOCATION:Ellis Hall C Minor Recital Hall
SUMMARY:RCOAL Research Symposium: Dr. Jeremy Chesman
DESCRIPTION:Dr. Jeremy Chesman will give a harp recital accompanied by a p
 resentation on performance pedagogy\, titled “A Book of Hebrew Songs: Pro
 cess as Meaning in a harp solo by Sergiu Natra.”\n\n\nThe Judith Enyeart 
 Reynolds College of Arts and Letters Research Symposium is designed to sh
 owcase and celebrate the interdisciplinary research of the faculty at Mis
 souri State University. This spring\, attendees can enjoy presentations o
 n a variety of topics that will blend lecture\, media and discussion.
X-ALT-DESC;FMTTYPE=text/html:&lt;html&gt;&lt;head&gt;&lt;title&gt;&lt;/title&gt;&lt;/head&gt;&lt;body&gt;&lt;p&gt;&lt;a
  href="https://www.missouristate.edu/Music/profile-display.aspx?p=JChesma
 n"&gt;Dr. Jeremy Chesman&lt;/a&gt;&amp;nbsp\;will give a harp recital accompanied by a
  presentation on performance pedagogy\, titled “A Book of Hebrew Songs: P
 rocess as Meaning in a harp solo by Sergiu Natra.”&lt;/p&gt;\n&lt;p&gt;The&amp;nbsp\;&lt;a h
 ref="https://blogs.missouristate.edu/coalexpressions/rcoal-research-sympo
 sium-spring-2023/"&gt;Judith Enyeart Reynolds College of Arts and Letters Re
 search Symposium&lt;/a&gt; is designed to showcase and celebrate the interdisci
 plinary research of the faculty at Missouri State University. This spring
 \, attendees can enjoy presentations on a variety of topics that will ble
 nd lecture\, media and discussion.&lt;/p&gt;&lt;/body&gt;&lt;/html&gt;
DTSTART;TZID=America/Chicago:20230331T121500
DTEND;TZID=America/Chicago:20230331T131500
SEQUENCE:0
URL:https://rcoal.MissouriState.edu
CATEGORIES:Public,Alumni,Current Students,Faculty,Future Students,Staff
END:VEVENT
END:VCALENDAR