BEGIN:VCALENDAR
VERSION:2.0
METHOD:PUBLISH
PRODID:-//Missouri State University/Calendar of Events//EN
CALSCALE:GREGORIAN
X-WR-TIMEZONE:America/Chicago
BEGIN:VTIMEZONE
TZID:America/Chicago
BEGIN:DAYLIGHT
TZOFFSETFROM:-0600
TZOFFSETTO:-0500
DTSTART:20070311T020000
RRULE:FREQ=YEARLY;BYMONTH=3;BYDAY=2SU
TZNAME:CDT
END:DAYLIGHT
BEGIN:STANDARD
TZOFFSETFROM:-0500
TZOFFSETTO:-0600
DTSTART:20071104T020000
RRULE:FREQ=YEARLY;BYMONTH=11;BYDAY=1SU
TZNAME:CST
END:STANDARD
END:VTIMEZONE
BEGIN:VEVENT
UID:ebe5b16a-dd84-428e-9d91-45d2f081d448.224221@calendar.missouristate.edu
CREATED:20230208T174856Z
LAST-MODIFIED:20230208T174856Z
LOCATION:Siceluff Hall 126
SUMMARY:RCOAL Research Symposium: Dr. Holly Holladay
DESCRIPTION:Dr. Holly Holladay will give a presentation on the significanc
 e of television and its impact on broader culture\, titled “Treat Yo’ Sel
 f: ‘Parks and Recreation’ and fan practices in the social media age.”\n\n
 \nThe Judith Enyeart Reynolds College of Arts and Letters Research Sympos
 ium is designed to showcase and celebrate the interdisciplinary research 
 of the faculty at Missouri State University. This spring\, attendees can 
 enjoy presentations on a variety of topics that will blend lecture\, medi
 a and discussion.
X-ALT-DESC;FMTTYPE=text/html:&lt;html&gt;&lt;head&gt;&lt;title&gt;&lt;/title&gt;&lt;/head&gt;&lt;body&gt;&lt;p&gt;&lt;a
  href="https://mjf.missouristate.edu/profile-display.aspx?p=HollyHolladay
 "&gt;Dr. Holly Holladay&lt;/a&gt;&amp;nbsp\;will give a presentation on the significan
 ce of television and its impact on broader culture\, titled “Treat Yo’ Se
 lf: ‘Parks and Recreation’ and fan practices in the social media age.”&lt;/p
 &gt;\n&lt;p&gt;The&amp;nbsp\;&lt;a href="https://blogs.missouristate.edu/coalexpressions/
 rcoal-research-symposium-spring-2023/"&gt;Judith Enyeart Reynolds College of
  Arts and Letters Research Symposium&lt;/a&gt; is designed to showcase and cele
 brate the interdisciplinary research of the faculty at Missouri State Uni
 versity. This spring\, attendees can enjoy presentations on a variety of 
 topics that will blend lecture\, media and discussion.&lt;/p&gt;&lt;/body&gt;&lt;/html&gt;
DTSTART;TZID=America/Chicago:20230421T121500
DTEND;TZID=America/Chicago:20230421T131500
SEQUENCE:0
URL:https://rcoal.MissouriState.edu
CATEGORIES:Public,Alumni,Current Students,Faculty,Future Students,Staff
END:VEVENT
END:VCALENDAR