BEGIN:VCALENDAR
VERSION:2.0
METHOD:PUBLISH
PRODID:-//Missouri State University/Calendar of Events//EN
CALSCALE:GREGORIAN
X-WR-TIMEZONE:America/Chicago
BEGIN:VTIMEZONE
TZID:America/Chicago
BEGIN:DAYLIGHT
TZOFFSETFROM:-0600
TZOFFSETTO:-0500
DTSTART:20070311T020000
RRULE:FREQ=YEARLY;BYMONTH=3;BYDAY=2SU
TZNAME:CDT
END:DAYLIGHT
BEGIN:STANDARD
TZOFFSETFROM:-0500
TZOFFSETTO:-0600
DTSTART:20071104T020000
RRULE:FREQ=YEARLY;BYMONTH=11;BYDAY=1SU
TZNAME:CST
END:STANDARD
END:VTIMEZONE
BEGIN:VEVENT
UID:1b3a55b3-a37e-42da-9e50-c8b2a0b20b5e.224255@calendar.missouristate.edu
CREATED:20230222T151031Z
LAST-MODIFIED:20230222T151031Z
LOCATION:Kemper Hall 204
SUMMARY:PAMS Seminar: "The JWST Advanced Deep Extragalactic Survey (JADES)
 : The First Results from the Deepest Observations of the Universe to Date
 " by Isaac Laseter
DESCRIPTION:Isaac LaseterPhD studentDepartment of PhysicsUniversity of Wis
 consin-Madison\n\n\nAbstract:Although much insight has already been gaine
 d from early observations with JWST\, most studies have been based on rel
 atively shallow spectroscopy/imaging relative to the observations of the 
 JADES Guaranteed Telescope Operations team. As Cycle 1 of JWST comes to a
  close\, I will summarize results from JADES ranging from the first redsh
 ift z &gt; 12 systems both discovered and spectroscopically confirmed by JWS
 T\,  peculiar emission line ratios and chemical abundances across multipl
 e cosmic epochs\, and curious ionization sources at z~11.
X-ALT-DESC;FMTTYPE=text/html:&lt;html&gt;&lt;head&gt;&lt;title&gt;&lt;/title&gt;&lt;/head&gt;&lt;body&gt;&lt;p&gt;&lt;b
 &gt;Isaac Laseter&lt;br&gt;PhD student&lt;br&gt;&lt;/b&gt;&lt;b&gt;Department of Physics&lt;br&gt;&lt;/b&gt;&lt;b&gt;U
 niversity of Wisconsin-Madison&lt;/b&gt;&lt;b&gt;&lt;br&gt;&lt;/b&gt;&lt;/p&gt;\n&lt;p&gt;Abstract:&lt;br&gt;Althou
 gh much insight has already been gained from early observations with JWST
 \, most studies have been based on relatively shallow spectroscopy/imagin
 g relative to the observations of the JADES Guaranteed Telescope Operatio
 ns team. As Cycle 1 of JWST comes to a close\, I will summarize results f
 rom JADES ranging from the first redshift z &amp;gt\; 12 systems both discove
 red and spectroscopically confirmed by JWST\,&amp;nbsp\; peculiar emission li
 ne ratios and chemical abundances across multiple cosmic epochs\, and cur
 ious ionization sources at z~11.&lt;/p&gt;&lt;/body&gt;&lt;/html&gt;
DTSTART;TZID=America/Chicago:20230309T160000
DTEND;TZID=America/Chicago:20230309T170000
SEQUENCE:0
URL:https://physics.missouristate.edu/seminars.htm
CATEGORIES:Public,Alumni,Current Students,Faculty,Future Students,Staff
END:VEVENT
END:VCALENDAR