BEGIN:VCALENDAR
VERSION:2.0
METHOD:PUBLISH
PRODID:-//Missouri State University/Calendar of Events//EN
CALSCALE:GREGORIAN
X-WR-TIMEZONE:America/Chicago
BEGIN:VTIMEZONE
TZID:America/Chicago
BEGIN:DAYLIGHT
TZOFFSETFROM:-0600
TZOFFSETTO:-0500
DTSTART:20070311T020000
RRULE:FREQ=YEARLY;BYMONTH=3;BYDAY=2SU
TZNAME:CDT
END:DAYLIGHT
BEGIN:STANDARD
TZOFFSETFROM:-0500
TZOFFSETTO:-0600
DTSTART:20071104T020000
RRULE:FREQ=YEARLY;BYMONTH=11;BYDAY=1SU
TZNAME:CST
END:STANDARD
END:VTIMEZONE
BEGIN:VEVENT
UID:ed21c144-cb31-455e-9025-8b42c5ca7095.224257@calendar.missouristate.edu
CREATED:20230204T005622Z
LAST-MODIFIED:20230204T005622Z
LOCATION:Roy Blunt Hall 345
SUMMARY:GGP Seminar: Dr. Sara Khorshidifard - "Women\, Life\, Freedom:" Co
 ntextualizing Iranian Women Protagonists in Urban Landscape Appropriations
DESCRIPTION:In premise\, space in a city is not neutral\, not a tabula ras
 a empty of preconceptions. The killing of the 22-year-old Kurdish-Iranian
  woman Jina "Masha" Amini in morality police custody in September 2022 ha
 s ensued a concurrent and momentous Iranian uprising\, spotlighting Irani
 ans' contemporary struggles at a global media forefront. This talk revolv
 es around Iranian women's circumstances intersecting with themes of histo
 ry\, gender\, space\, rights\, and culture. Through wide-ranging cultural
  and contextural discourse in-between the academic and personal\, the tal
 k will contextualize the circumstances in conjunction with gendered space
 s\, drawing inferences spanning history\, spatiality\, cultural heritage\
 , and mythical crossings. The talk will rely on the concurrent events onl
 y as a center of a much more complex and intricate collective sphere of k
 nowing around which to orbit\, leading and giving rise to current moments
  and events. The sphere is an assemblage of revelatory spaces from which 
 to open up into a multitude of essential familiarity thresholds and diver
 se perspective crossings. The talk will enter these spaces as windows tow
 ard a more broadened and multidimensional map of understanding to explore
  the complexities of Iranian women-space intersections. Organized under a
  triad of thematic headings entailing hostilities\, porosities\, and spon
 taneities\, the monologue will engage complicated histories (pre/post-\, 
 contemporary/ancient\, etc)\, gender roles\, socio-political mishaps\, an
 d views on idiosyncratic Iranian resiliencies echoed through enacting\, n
 egotiating\, redefining and contesting urban landscapes. The talk's ambit
 ious aim would be to leave the audience empowered - entering genuine know
 ing thresholds - and vested in - choosing to push toward action: standing
  with the Iranian people.\n\n\nAn architectural designer\, design researc
 her and urbanist\, Sara Khorshidifard is an assistant professor and the d
 irector of the Center for Community Studies at Drury University's Hammons
  School of Architecture. Her principal research examines synergistic inte
 rplays and symbiotic interconnections between intentionally designed and 
 socially constructed spaces. It entails a triad trajectory in Urban-Rural
  Interface Studies\, Architectural Education and Tehran Studies. Her scho
 larships engage in new ways of thinking about cities beyond architectural
  objects\, contemplating habitation\, flows and vestigial spaces.
X-ALT-DESC;FMTTYPE=text/html:&lt;html&gt;&lt;head&gt;&lt;title&gt;&lt;/title&gt;&lt;/head&gt;&lt;body&gt;&lt;p&gt;In
  premise\, space in a city is not neutral\, not a tabula rasa empty of pr
 econceptions. The killing of the 22-year-old Kurdish-Iranian woman Jina "
 Masha" Amini in morality police custody in September 2022 has ensued a co
 ncurrent and momentous Iranian uprising\, spotlighting Iranians' contempo
 rary struggles at a global media forefront. This talk revolves around Ira
 nian women's circumstances intersecting with themes of history\, gender\,
  space\, rights\, and culture. Through wide-ranging cultural and contextu
 ral discourse in-between the academic and personal\, the talk will contex
 tualize the circumstances in conjunction with gendered spaces\, drawing i
 nferences spanning history\, spatiality\, cultural heritage\, and mythica
 l crossings. The talk will rely on the concurrent events only as a center
  of a much more complex and intricate collective sphere of knowing around
  which to orbit\, leading and giving rise to current moments and events. 
 The sphere is an assemblage of revelatory spaces from which to open up in
 to a multitude of essential familiarity thresholds and diverse perspectiv
 e crossings. The talk will enter these spaces as windows toward a more br
 oadened and multidimensional map of understanding to explore the complexi
 ties of Iranian women-space intersections. Organized under a triad of the
 matic headings entailing hostilities\, porosities\, and spontaneities\, t
 he monologue will engage complicated histories (pre/post-\, contemporary/
 ancient\, etc)\, gender roles\, socio-political mishaps\, and views on id
 iosyncratic Iranian resiliencies echoed through enacting\, negotiating\, 
 redefining and contesting urban landscapes. The talk's ambitious aim woul
 d be to leave the audience empowered - entering genuine knowing threshold
 s - and vested in - choosing to push toward action: standing with the Ira
 nian people.&lt;/p&gt;\n&lt;p&gt;An architectural designer\, design researcher and ur
 banist\, Sara Khorshidifard is an assistant professor and the director of
  the Center for Community Studies at Drury University's Hammons School of
  Architecture. Her principal research examines synergistic interplays and
  symbiotic interconnections between intentionally designed and socially c
 onstructed spaces. It entails a triad trajectory in Urban-Rural Interface
  Studies\, Architectural Education and Tehran Studies. Her scholarships e
 ngage in new ways of thinking about cities beyond architectural objects\,
  contemplating habitation\, flows and vestigial spaces.&lt;/p&gt;&lt;/body&gt;&lt;/html&gt;
DTSTART;TZID=America/Chicago:20230217T143000
DTEND;TZID=America/Chicago:20230217T153000
SEQUENCE:0
URL:http://www.geosciences.MissouriState.edu
CATEGORIES:Public,Alumni,Current Students,Faculty,Future Students
END:VEVENT
END:VCALENDAR