BEGIN:VCALENDAR
VERSION:2.0
METHOD:PUBLISH
PRODID:-//Missouri State University/Calendar of Events//EN
CALSCALE:GREGORIAN
X-WR-TIMEZONE:America/Chicago
BEGIN:VTIMEZONE
TZID:America/Chicago
BEGIN:DAYLIGHT
TZOFFSETFROM:-0600
TZOFFSETTO:-0500
DTSTART:20070311T020000
RRULE:FREQ=YEARLY;BYMONTH=3;BYDAY=2SU
TZNAME:CDT
END:DAYLIGHT
BEGIN:STANDARD
TZOFFSETFROM:-0500
TZOFFSETTO:-0600
DTSTART:20071104T020000
RRULE:FREQ=YEARLY;BYMONTH=11;BYDAY=1SU
TZNAME:CST
END:STANDARD
END:VTIMEZONE
BEGIN:VEVENT
UID:3c0b0c43-3aa6-4164-91d0-690e8bf524e0.224258@calendar.missouristate.edu
CREATED:20230125T032426Z
LAST-MODIFIED:20230125T032426Z
LOCATION:Plaster Student Union\, Robert W. 315
SUMMARY:Inspiring Leadership through Emotional Intelligence - Lead Self
DESCRIPTION:Emotional Intelligence (EI) has been identified as the number 
 one core competency for effective leadership\, productive relationships a
 nd excellent service regardless of rank or title.\n\n\nLearners who atten
 d this session will discover that productive relationships can either flo
 urish or wither as a result of our ability\, or inability\, to exert cont
 rol over our behavior. The essential premise of EI is that true\, sustain
 able\, success requires an honest awareness\, control and management of o
 ne's own emotions\, and an understanding of the emotions of others. Under
 stand the powerful and positive impact of a high emotional quotient.\n\n\
 nJoin us for this 3.5 hour session and learn why emotional intelligence c
 reates leaders and how easily you can develop yours.\n\n\nSponsored by HR
  - Organizational and Talent Development.
X-ALT-DESC;FMTTYPE=text/html:&lt;html&gt;&lt;head&gt;&lt;title&gt;&lt;/title&gt;&lt;/head&gt;&lt;body&gt;&lt;p&gt;Em
 otional Intelligence (EI) has been identified as the number one core comp
 etency for effective leadership\, productive relationships and excellent 
 service regardless of rank or title.&lt;/p&gt;\n&lt;p&gt;Learners who attend this ses
 sion will discover that productive relationships can either flourish or w
 ither as a result of our ability\, or inability\, to exert control over o
 ur behavior. The essential premise of EI is that true\, sustainable\, suc
 cess requires an honest awareness\, control and management of one's own e
 motions\, and an understanding of the emotions of others.&amp;nbsp\;Understan
 d the powerful and positive impact of a high emotional quotient.&lt;/p&gt;\n&lt;p&gt;
 Join us for this 3.5 hour session and learn why emotional intelligence cr
 eates leaders and how easily you can develop yours.&lt;/p&gt;\n&lt;p&gt;Sponsored by 
 HR - Organizational and Talent Development.&lt;/p&gt;&lt;/body&gt;&lt;/html&gt;
DTSTART;TZID=America/Chicago:20230425T083000
DTEND;TZID=America/Chicago:20230425T120000
SEQUENCE:0
URL:https://blogs.missouristate.edu/human/
CATEGORIES:Faculty,Staff
END:VEVENT
END:VCALENDAR