BEGIN:VCALENDAR
VERSION:2.0
METHOD:PUBLISH
PRODID:-//Missouri State University/Calendar of Events//EN
CALSCALE:GREGORIAN
X-WR-TIMEZONE:America/Chicago
BEGIN:VTIMEZONE
TZID:America/Chicago
BEGIN:DAYLIGHT
TZOFFSETFROM:-0600
TZOFFSETTO:-0500
DTSTART:20070311T020000
RRULE:FREQ=YEARLY;BYMONTH=3;BYDAY=2SU
TZNAME:CDT
END:DAYLIGHT
BEGIN:STANDARD
TZOFFSETFROM:-0500
TZOFFSETTO:-0600
DTSTART:20071104T020000
RRULE:FREQ=YEARLY;BYMONTH=11;BYDAY=1SU
TZNAME:CST
END:STANDARD
END:VTIMEZONE
BEGIN:VEVENT
UID:b45bd727-7f4f-44d8-955d-c98f8eeb3fce.224285@calendar.missouristate.edu
CREATED:20230127T010028Z
LAST-MODIFIED:20230127T010028Z
LOCATION:Plaster Free Enterprise Center\, Robert W. Jay Wasson Idea Loft
SUMMARY:Visiting Artists\, Designers and Scholars Series: Anna Valdez: Thr
 ough Observation
DESCRIPTION:Anna Valdez is a multi-disciplinary artist based in the San Fr
 ancisco Bay Area who examines the relationship between objects\, cultural
  formation and collective consciousness. Creating epic tableaux in her st
 udio\, Valdez moves seamlessly between still life and landscape painting\
 , collecting objects and making new ones through cultivation\, observatio
 n and fictionalization. Valdez has exhibited nationally and international
 ly\, including at Hashimoto Contemporary\, Nancy Margolis Gallery\, Cryst
 al Bridges Museum of American Art and Juxtapoz Magazine\, among many othe
 r venues.
X-ALT-DESC;FMTTYPE=text/html:&lt;html&gt;&lt;head&gt;&lt;title&gt;&lt;/title&gt;&lt;/head&gt;&lt;body&gt;&lt;p&gt;&lt;a
  href="https://www.annavaldez.com/" target="_blank"&gt;Anna Valdez&lt;/a&gt;&amp;nbsp\
 ;is a multi-disciplinary artist based in the San Francisco Bay Area who e
 xamines the relationship between objects\, cultural formation and collect
 ive consciousness. Creating epic tableaux in her studio\,&amp;nbsp\;Valdez&amp;nb
 sp\;moves seamlessly between still life and landscape painting\, collecti
 ng objects and making new ones through cultivation\, observation and fict
 ionalization.&amp;nbsp\;Valdez&amp;nbsp\;has exhibited nationally and internation
 ally\, including at Hashimoto Contemporary\, Nancy Margolis Gallery\, Cry
 stal Bridges Museum of American Art and Juxtapoz Magazine\, among many ot
 her venues.&lt;/p&gt;&lt;/body&gt;&lt;/html&gt;
DTSTART;TZID=America/Chicago:20230322T173000
DTEND;TZID=America/Chicago:20230322T183000
SEQUENCE:0
URL:117126.jpg
CATEGORIES:Public,Alumni,Current Students,Faculty,Future Students,Staff
END:VEVENT
END:VCALENDAR