BEGIN:VCALENDAR
VERSION:2.0
METHOD:PUBLISH
PRODID:-//Missouri State University/Calendar of Events//EN
CALSCALE:GREGORIAN
X-WR-TIMEZONE:America/Chicago
BEGIN:VTIMEZONE
TZID:America/Chicago
BEGIN:DAYLIGHT
TZOFFSETFROM:-0600
TZOFFSETTO:-0500
DTSTART:20070311T020000
RRULE:FREQ=YEARLY;BYMONTH=3;BYDAY=2SU
TZNAME:CDT
END:DAYLIGHT
BEGIN:STANDARD
TZOFFSETFROM:-0500
TZOFFSETTO:-0600
DTSTART:20071104T020000
RRULE:FREQ=YEARLY;BYMONTH=11;BYDAY=1SU
TZNAME:CST
END:STANDARD
END:VTIMEZONE
BEGIN:VEVENT
UID:81c13fea-33fc-4575-89f0-0fb41e9da894.224287@calendar.missouristate.edu
CREATED:20230126T202901Z
LAST-MODIFIED:20230126T202901Z
LOCATION:
SUMMARY:Academic Advisor Forum: Academic Advising &amp; Transfer Center Town H
 all Meeting
DESCRIPTION:Presenters: Academic Advising &amp; Transfer Center staff\n\n\nThi
 s forum will introduce our staff\, new structure\, the work we do\, recen
 t accomplishments and what’s to come. Some of the topics include student 
 populations we serve\, advisor training and development\, advising assess
 ment and Mission Diploma 2.0. There will also be opening remarks from Zor
 a Mulligan\, executive vice president.\n\n\nJoin via Zoom.
X-ALT-DESC;FMTTYPE=text/html:&lt;html&gt;&lt;head&gt;&lt;title&gt;&lt;/title&gt;&lt;/head&gt;&lt;body&gt;&lt;p&gt;&lt;s
 trong&gt;Presenters: Academic Advising &amp;amp\; Transfer Center staff&lt;/strong&gt;
 &lt;/p&gt;\n&lt;p&gt;This forum will introduce our staff\, new structure\, the work w
 e do\, recent accomplishments and what’s to come. Some of the topics incl
 ude student populations we serve\, advisor training and development\, adv
 ising assessment and Mission Diploma 2.0. There will also be opening rema
 rks from Zora Mulligan\, executive vice president.&lt;/p&gt;\n&lt;p&gt;Join via &lt;a hr
 ef="https://missouristate.zoom.us/j/94192204981"&gt;Zoom&lt;/a&gt;.&lt;/p&gt;&lt;/body&gt;&lt;/ht
 ml&gt;
DTSTART;TZID=America/Chicago:20230208T120000
DTEND;TZID=America/Chicago:20230208T130000
SEQUENCE:0
URL:http://www.missouristate.edu/advising/42540.htm
CATEGORIES:Faculty,Staff
END:VEVENT
END:VCALENDAR