BEGIN:VCALENDAR
VERSION:2.0
METHOD:PUBLISH
PRODID:-//Missouri State University/Calendar of Events//EN
CALSCALE:GREGORIAN
X-WR-TIMEZONE:America/Chicago
BEGIN:VTIMEZONE
TZID:America/Chicago
BEGIN:DAYLIGHT
TZOFFSETFROM:-0600
TZOFFSETTO:-0500
DTSTART:20070311T020000
RRULE:FREQ=YEARLY;BYMONTH=3;BYDAY=2SU
TZNAME:CDT
END:DAYLIGHT
BEGIN:STANDARD
TZOFFSETFROM:-0500
TZOFFSETTO:-0600
DTSTART:20071104T020000
RRULE:FREQ=YEARLY;BYMONTH=11;BYDAY=1SU
TZNAME:CST
END:STANDARD
END:VTIMEZONE
BEGIN:VEVENT
UID:ba096daf-388b-4900-abcf-edfe4832c49b.224288@calendar.missouristate.edu
CREATED:20230126T202835Z
LAST-MODIFIED:20230126T202835Z
LOCATION:Plaster Student Union\, Robert W. 313
SUMMARY:Academic Advisor Forum: Sending Bears Abroad: Education Abroad for
  Advisors
DESCRIPTION:Presenters: \n\n\nDr. Elizabeth Strong\, director\, Education 
 Abroad\n\n\nAmy Huff\, advisor\, Education Abroad\n\n\nMorgan Marler\, ad
 ministrative assistant\n\n\nHow do students choose a program abroad that'
 s right for them? Is funding available? When is a good time for them to g
 o? Can any major do it\, even yours? Join Elizabeth Strong\, Amy Huff and
  Morgan Marler for an Education Abroad table talk on all things study abr
 oad. We’ll cover the basics\, bust common myths and discuss how we can co
 llaborate to provide high-impact learning experiences for our students. A
 dventure is the best way to learn!\n\n\nRegistration is encouraged.
X-ALT-DESC;FMTTYPE=text/html:&lt;html&gt;&lt;head&gt;&lt;title&gt;&lt;/title&gt;&lt;/head&gt;&lt;body&gt;&lt;p&gt;&lt;s
 trong&gt;Presenters: &lt;/strong&gt;&lt;/p&gt;\n&lt;p&gt;&lt;strong&gt;Dr. Elizabeth Strong\, direct
 or\, Education Abroad&lt;/strong&gt;&lt;/p&gt;\n&lt;p&gt;&lt;strong&gt;Amy Huff\, advisor\, Educa
 tion Abroad&lt;/strong&gt;&lt;/p&gt;\n&lt;p&gt;&lt;strong&gt;Morgan Marler\, administrative assis
 tant&lt;/strong&gt;&lt;/p&gt;\n&lt;p&gt;How do students choose a program abroad that's righ
 t for them? Is funding available? When is a good time for them to go? Can
  any major do it\, even yours? Join Elizabeth Strong\, Amy Huff and Morga
 n Marler for an Education Abroad table talk on all things study abroad. W
 e’ll cover the basics\, bust common myths and discuss how we can collabor
 ate to provide high-impact learning experiences for our students. Adventu
 re is the best way to learn!&lt;/p&gt;\n&lt;p&gt;Registration is encouraged.&lt;/p&gt;&lt;/bod
 y&gt;&lt;/html&gt;
DTSTART;TZID=America/Chicago:20230302T120000
DTEND;TZID=America/Chicago:20230302T130000
SEQUENCE:0
URL:http://www.missouristate.edu/advising/42540.htm
CATEGORIES:Faculty,Staff
END:VEVENT
END:VCALENDAR