BEGIN:VCALENDAR
VERSION:2.0
METHOD:PUBLISH
PRODID:-//Missouri State University/Calendar of Events//EN
CALSCALE:GREGORIAN
X-WR-TIMEZONE:America/Chicago
BEGIN:VTIMEZONE
TZID:America/Chicago
BEGIN:DAYLIGHT
TZOFFSETFROM:-0600
TZOFFSETTO:-0500
DTSTART:20070311T020000
RRULE:FREQ=YEARLY;BYMONTH=3;BYDAY=2SU
TZNAME:CDT
END:DAYLIGHT
BEGIN:STANDARD
TZOFFSETFROM:-0500
TZOFFSETTO:-0600
DTSTART:20071104T020000
RRULE:FREQ=YEARLY;BYMONTH=11;BYDAY=1SU
TZNAME:CST
END:STANDARD
END:VTIMEZONE
BEGIN:VEVENT
UID:f4e503ed-a09a-4c66-9b39-d72ae01cbe52.224289@calendar.missouristate.edu
CREATED:20230126T202728Z
LAST-MODIFIED:20230126T202728Z
LOCATION:
SUMMARY:Academic Advisor Forum: The Fundamentals of Student Success: Strat
 egies for Addressing Students’ Basic Needs
DESCRIPTION:Facilitator: Kim Stagner\, coordinator\, Student Success Initi
 atives\, Academic Advising &amp; Transfer Center\n\n\nPresenters: Cheryl Wind
 er\, MO Department of Social Services\n\n\nAlex Johnson\, director\, Comm
 unity Engaged Learning/Bear Pantry\n\n\nKelly Evans\, associate director\
 , Financial Aid\n\n\nThe ability to meet students’ basic needs is integra
 l to student success at Missouri State University. This forum offers advi
 sors the opportunity to learn how to better connect students with availab
 le support services including childcare\, food assistance (SNAP and Bear 
 Pantry)\, Medicaid and emergency scholarship funds. Advisors will hear fr
 om Cheryl Winder (DSS)\, Alex Johnson (Bear Pantry) and Kelly Evans (Emer
 gency Scholarship Fund). Following the presentations\, advisors will have
  the opportunity to ask the panelists questions and brainstorm about addi
 tional services needed to ensure student success.\n\n\nJoin via Zoom. \n\
 n\nRegistration is encouraged.
X-ALT-DESC;FMTTYPE=text/html:&lt;html&gt;&lt;head&gt;&lt;title&gt;&lt;/title&gt;&lt;/head&gt;&lt;body&gt;&lt;p&gt;&lt;s
 trong&gt;Facilitator: Kim Stagner\, coordinator\, Student Success Initiative
 s\, Academic Advising &amp;amp\; Transfer Center&lt;/strong&gt;&lt;/p&gt;\n&lt;p&gt;&lt;strong&gt;Pre
 senters: Cheryl Winder\, MO Department of Social Services&lt;/strong&gt;&lt;/p&gt;\n&lt;
 p&gt;&lt;strong&gt;Alex Johnson\, director\, Community Engaged Learning/Bear Pantr
 y&lt;/strong&gt;&lt;/p&gt;\n&lt;p&gt;&lt;strong&gt;Kelly Evans\, associate director\, Financial A
 id&lt;/strong&gt;&lt;/p&gt;\n&lt;p&gt;The ability to meet students’ basic needs is integral
  to student success at Missouri State University. This forum offers advis
 ors the opportunity to learn how to better connect students with availabl
 e support services including childcare\, food assistance (SNAP and Bear P
 antry)\, Medicaid and emergency scholarship funds. Advisors will hear fro
 m Cheryl Winder (DSS)\, Alex Johnson (Bear Pantry) and Kelly Evans (Emerg
 ency Scholarship Fund). Following the presentations\, advisors will have 
 the opportunity to ask the panelists questions and brainstorm about addit
 ional services needed to ensure student success.&lt;/p&gt;\n&lt;p&gt;&lt;a href="https:/
 /missouristate.zoom.us/j/94227632334"&gt;Join via Zoom&lt;/a&gt;.&amp;nbsp\;&lt;/p&gt;\n&lt;p&gt;R
 egistration is encouraged.&lt;/p&gt;&lt;/body&gt;&lt;/html&gt;
DTSTART;TZID=America/Chicago:20230303T120000
DTEND;TZID=America/Chicago:20230303T130000
SEQUENCE:0
URL:http://www.missouristate.edu/advising/42540.htm
CATEGORIES:Faculty,Staff
END:VEVENT
END:VCALENDAR